BEGIN:VCALENDAR
VERSION:2.0
PRODID:-//Hackensack Regional Chamber of Commerce - ECPv6.15.17.1//NONSGML v1.0//EN
CALSCALE:GREGORIAN
METHOD:PUBLISH
X-WR-CALNAME:Hackensack Regional Chamber of Commerce
X-ORIGINAL-URL:https://www.hackensackchamber.org
X-WR-CALDESC:Events for Hackensack Regional Chamber of Commerce
REFRESH-INTERVAL;VALUE=DURATION:PT1H
X-Robots-Tag:noindex
X-PUBLISHED-TTL:PT1H
BEGIN:VTIMEZONE
TZID:UTC
BEGIN:STANDARD
TZOFFSETFROM:+0000
TZOFFSETTO:+0000
TZNAME:UTC
DTSTART:20200101T000000
END:STANDARD
END:VTIMEZONE
BEGIN:VEVENT
DTSTART;TZID=UTC:20210407T083000
DTEND;TZID=UTC:20210407T100000
DTSTAMP:20260422T004606
CREATED:20210315T181905Z
LAST-MODIFIED:20210326T235941Z
UID:74386-1617784200-1617789600@www.hackensackchamber.org
SUMMARY:Blitzr: 3-Minute Speed Networking
DESCRIPTION:Come join us for a great opportunity to network with other Chamber members across the County. A take on our traditional 3-minute networking\, this one will be virtual through the Blitzr platform.
URL:https://www.hackensackchamber.org/event/blitzr-3-minute-speed-networking/
END:VEVENT
BEGIN:VEVENT
DTSTART;TZID=UTC:20210409T100000
DTEND;TZID=UTC:20210409T110000
DTSTAMP:20260422T004606
CREATED:20210108T222659Z
LAST-MODIFIED:20210108T222659Z
UID:54486-1617962400-1617966000@www.hackensackchamber.org
SUMMARY:Non Profit Committee
DESCRIPTION:Join other non profit professionals for networking and discussing an issue of the day. Currently held via zoom – link is sent the night before. Free to chamber members.
URL:https://www.hackensackchamber.org/event/non-profit-committee-2/
END:VEVENT
BEGIN:VEVENT
DTSTART;TZID=UTC:20210412T090000
DTEND;TZID=UTC:20210412T100000
DTSTAMP:20260422T004606
CREATED:20201023T235056Z
LAST-MODIFIED:20201023T235056Z
UID:41399-1618218000-1618221600@www.hackensackchamber.org
SUMMARY:Membership/Marketing Committee
DESCRIPTION:The membership/marketing committee meets on the 2nd Monday of the month at 9 a.m. via zoom. The committee plans the May is Membership events and the General Membership event. The committee also welcomes new members in person at their place of business. They act as ambassadors to greet attendees at major events throughout the year.
URL:https://www.hackensackchamber.org/event/membership-marketing-committee-9/
END:VEVENT
BEGIN:VEVENT
DTSTART;TZID=UTC:20210413T090000
DTEND;TZID=UTC:20210413T100000
DTSTAMP:20260422T004606
CREATED:20201021T230541Z
LAST-MODIFIED:20201021T230541Z
UID:41128-1618304400-1618308000@www.hackensackchamber.org
SUMMARY:Events Committee
DESCRIPTION:The events committee meets on the 2nd Tuesday of the month via zoom. The events committee plans the major events during the year including the gala\, beefsteak and scholarship event. This committee also helps to guide smaller events during the year.
URL:https://www.hackensackchamber.org/event/events-committee-14/
END:VEVENT
BEGIN:VEVENT
DTSTART;TZID=UTC:20210415T090000
DTEND;TZID=UTC:20210415T100000
DTSTAMP:20260422T004606
CREATED:20201024T003730Z
LAST-MODIFIED:20201024T003730Z
UID:41429-1618477200-1618480800@www.hackensackchamber.org
SUMMARY:Board of Directors Meeting
DESCRIPTION:The Board of Directors meets on the third Thursday of the month at 9 a.m. via zoom. All members are welcome to attend. The Board supervises and controls the direction of the Chamber and promotes its purpose. The directors serve three year terms\, not to exceed 12 years. Directors are expected to be actively involved in the Chamber\, including regular attendance at scheduled meetings\, participation in committees\, and participation in Chamber events and functions.
URL:https://www.hackensackchamber.org/event/board-of-directors-meeting-9/
END:VEVENT
BEGIN:VEVENT
DTSTART;TZID=UTC:20210416T120000
DTEND;TZID=UTC:20210416T133000
DTSTAMP:20260422T004606
CREATED:20210312T203717Z
LAST-MODIFIED:20210312T203717Z
UID:73095-1618574400-1618579800@www.hackensackchamber.org
SUMMARY:Name That Tune
DESCRIPTION:
URL:https://www.hackensackchamber.org/event/name-that-tune-2/
END:VEVENT
BEGIN:VEVENT
DTSTART;TZID=UTC:20210421T090000
DTEND;TZID=UTC:20210421T100000
DTSTAMP:20260422T004606
CREATED:20210319T184546Z
LAST-MODIFIED:20210319T184546Z
UID:76034-1618995600-1618999200@www.hackensackchamber.org
SUMMARY:Social Media Marketing for Small Businesses
DESCRIPTION:Jessica Maarek\, Founder and Owner of Red Root Marketing\, will discuss how to: \n\nOptimize your platforms – Is your mission clear and your branding cohesive?\nCreate compelling content – How\, what\, Calls to Action and tools to use\nEngage your community and grow your audience — Create your Community Map ®\n\nPresented by Bogota Public Library\, the Hackensack Chamber of Commerce and the Bogota Creative Arts Team. This event will take place virtually on Zoom. Register to receive participation information. \n\nAbout Jessica Maarek\nJessica founded Red Root Marketing 8 years ago in response to a need she observed in the local business communities of northern New Jersey. Small business owners needed help connecting to their customers\, prospects and communities to expand their brand awareness and to get support. Jessica was able to develop a social media marketing approach\, rooted deeply in creating community connections\, that allowed her to bring awareness to these local businesses in an efficient and effective manner through grassroots and hyperlocal techniques.  \nTo register visit: https://bccls.libcal.com/event/7631055
URL:https://www.hackensackchamber.org/event/social-media-marketing-for-small-businesses/
END:VEVENT
BEGIN:VEVENT
DTSTART;TZID=UTC:20210427T093000
DTEND;TZID=UTC:20210427T103000
DTSTAMP:20260422T004606
CREATED:20201024T011119Z
LAST-MODIFIED:20210302T202957Z
UID:41460-1619515800-1619519400@www.hackensackchamber.org
SUMMARY:Women's Networking
DESCRIPTION:The goal of this group is for professional women to create an atmosphere where they are comfortable speaking about challenges in their work life. Ultimately\, the relationships build will help grow their business. \nEach session has a topic for the group to discuss. The women’s networking group meets for an hour but attendees are encouraged to stay and chat. \nThere is no charge to attend but membership is required. \nHosted by Maria Rini and The Welcome Home Team. Coffee and light refreshments will be served. \nHeld at Van Saun Park for those who want to come in person. Zoom will be available for others.
URL:https://www.hackensackchamber.org/event/womens-networking-13/
LOCATION:Van Saun Park\, Paramus
END:VEVENT
BEGIN:VEVENT
DTSTART;TZID=UTC:20210429T090000
DTEND;TZID=UTC:20210429T100000
DTSTAMP:20260422T004606
CREATED:20210111T235855Z
LAST-MODIFIED:20210111T235855Z
UID:55313-1619686800-1619690400@www.hackensackchamber.org
SUMMARY:Lawyers & Accountants
DESCRIPTION:The Lawyers and Accountant Committee meets once per month to network and go over industry related topics. The main goal of the group is to better understand the subtle nuances of each member’s business in order to encourage referrals and introductions. From time to time the group will present case studies and host educational events for the main Chamber members. \nCommittee Chair: Joe Saccomanno\, AXA Financial Advisors\, LLC\, Joseph.Saccomanno@equitable.com
URL:https://www.hackensackchamber.org/event/lawyers-accountants-3/
END:VEVENT
END:VCALENDAR