BEGIN:VCALENDAR
VERSION:2.0
PRODID:-//Hackensack Regional Chamber of Commerce - ECPv6.15.17.1//NONSGML v1.0//EN
CALSCALE:GREGORIAN
METHOD:PUBLISH
X-WR-CALNAME:Hackensack Regional Chamber of Commerce
X-ORIGINAL-URL:https://www.hackensackchamber.org
X-WR-CALDESC:Events for Hackensack Regional Chamber of Commerce
REFRESH-INTERVAL;VALUE=DURATION:PT1H
X-Robots-Tag:noindex
X-PUBLISHED-TTL:PT1H
BEGIN:VTIMEZONE
TZID:UTC
BEGIN:STANDARD
TZOFFSETFROM:+0000
TZOFFSETTO:+0000
TZNAME:UTC
DTSTART:20190101T000000
END:STANDARD
END:VTIMEZONE
BEGIN:VEVENT
DTSTART;TZID=UTC:20201203T120000
DTEND;TZID=UTC:20201203T140000
DTSTAMP:20260422T095115
CREATED:20201201T062231Z
LAST-MODIFIED:20201201T062231Z
UID:47353-1606996800-1607004000@www.hackensackchamber.org
SUMMARY:Fix your healthcare benefit costs…And start with your smile!
DESCRIPTION:Does your company want to start 2021 by saving on Healthcare Benefits?   Then DON’T MISS our Webinar\, \n\n\n“Fix your healthcare benefit costs…And start with your smile!”\, this Thursday\, December 3rd at 12:00 PM. \n\n\n\n\n \n\n\n\n\nJoin us for an eye-opening webinar at noon this Thursday\, as Dr. Dan Marut reveals what’s \n\n\ncosting US employers 25 BILLION DOLLARS in losses each year and what you can do to prevent \n\n\nthese major losses in your business.  With healthcare costs increasing and a current model that \n\n\nhasn’t seen innovation in over 30 years\, let us introduce you to a healthcare benefit that can \n\n\nsave employers and employees valuable dollars when providing and using employee benefits.  \n\n\nYou are sure to come away from this webinar enlightened about what you can do to provide a \n\n\nbetter\, more cost-effective model of benefit delivery. \n\n\n\n\n \n\n\n\n\nDr. Dan Marut\, a pioneer in the direct benefits niche\, is committed to empowering employers \n\n\nand employees by streamlining the concept of healthcare benefits and providing a program to \n\n\nmake the process of benefit delivery more efficient for employers\, employees\, and practitioners \n\n\nalike. 
URL:https://www.hackensackchamber.org/event/fix-your-healthcare-benefit-costsand-start-with-your-smile/
END:VEVENT
BEGIN:VEVENT
DTSTART;TZID=UTC:20201208T090000
DTEND;TZID=UTC:20201208T100000
DTSTAMP:20260422T095115
CREATED:20201020T233405Z
LAST-MODIFIED:20201021T230233Z
UID:40957-1607418000-1607421600@www.hackensackchamber.org
SUMMARY:Events Committee
DESCRIPTION:The events committee meets on the 2nd Tuesday of the month via zoom. The events committee plans the major events during the year including the gala\, beefsteak and scholarship event. This committee also helps to guide smaller events during the year.
URL:https://www.hackensackchamber.org/event/events-committee-9/
END:VEVENT
BEGIN:VEVENT
DTSTART;TZID=UTC:20201210T180000
DTEND;TZID=UTC:20201210T190000
DTSTAMP:20260422T095115
CREATED:20201103T003448Z
LAST-MODIFIED:20201120T233912Z
UID:43033-1607623200-1607626800@www.hackensackchamber.org
SUMMARY:Networking & Salsa
DESCRIPTION:
URL:https://www.hackensackchamber.org/event/networking-salsa/
LOCATION:Jean Michel’s Let’s Dance\, 116 Anderson Street\, Hackensack\, NJ\, 07601\, United States
END:VEVENT
BEGIN:VEVENT
DTSTART;TZID=UTC:20201214T090000
DTEND;TZID=UTC:20201214T100000
DTSTAMP:20260422T095115
CREATED:20201023T234825Z
LAST-MODIFIED:20201023T234825Z
UID:41385-1607936400-1607940000@www.hackensackchamber.org
SUMMARY:Membership/Marketing Committee
DESCRIPTION:The membership/marketing committee meets on the 2nd Monday of the month at 9 a.m. via zoom. The committee plans the May is Membership events and the General Membership event. The committee also welcomes new members in person at their place of business. They act as ambassadors to greet attendees at major events throughout the year.
URL:https://www.hackensackchamber.org/event/membership-marketing-committee-5/
END:VEVENT
BEGIN:VEVENT
DTSTART;TZID=UTC:20201216T093000
DTEND;TZID=UTC:20201216T103000
DTSTAMP:20260422T095115
CREATED:20201024T010211Z
LAST-MODIFIED:20201024T011337Z
UID:41447-1608111000-1608114600@www.hackensackchamber.org
SUMMARY:Women's Networking
DESCRIPTION:The goal of this group is for professional women to create an atmosphere where they are comfortable speaking about challenges in their work life. Ultimately\, the relationships build will help grow their business. \nEach session has a topic for the group to discuss. The women’s networking group meets for an hour but attendees are encouraged to stay and chat. \nThe group meets monthly on either the third or fourth Wednesday. There is no charge to attend but membership is required. \nTo host one of the meetings please call the Chamber office.
URL:https://www.hackensackchamber.org/event/womens-networking-9/
END:VEVENT
END:VCALENDAR