BEGIN:VCALENDAR
VERSION:2.0
PRODID:-//Hackensack Regional Chamber of Commerce - ECPv6.15.17.1//NONSGML v1.0//EN
CALSCALE:GREGORIAN
METHOD:PUBLISH
X-ORIGINAL-URL:https://www.hackensackchamber.org
X-WR-CALDESC:Events for Hackensack Regional Chamber of Commerce
REFRESH-INTERVAL;VALUE=DURATION:PT1H
X-Robots-Tag:noindex
X-PUBLISHED-TTL:PT1H
BEGIN:VTIMEZONE
TZID:UTC
BEGIN:STANDARD
TZOFFSETFROM:+0000
TZOFFSETTO:+0000
TZNAME:UTC
DTSTART:20190101T000000
END:STANDARD
END:VTIMEZONE
BEGIN:VEVENT
DTSTART;TZID=UTC:20201109T090000
DTEND;TZID=UTC:20201109T100000
DTSTAMP:20260422T114409
CREATED:20201023T234752Z
LAST-MODIFIED:20201023T234752Z
UID:41382-1604912400-1604916000@www.hackensackchamber.org
SUMMARY:Membership/Marketing Committee
DESCRIPTION:The membership/marketing committee meets on the 2nd Monday of the month at 9 a.m. via zoom. The committee plans the May is Membership events and the General Membership event. The committee also welcomes new members in person at their place of business. They act as ambassadors to greet attendees at major events throughout the year.
URL:https://www.hackensackchamber.org/event/membership-marketing-committee-4/
END:VEVENT
BEGIN:VEVENT
DTSTART;TZID=UTC:20201110T090000
DTEND;TZID=UTC:20201110T103000
DTSTAMP:20260422T114409
CREATED:20201021T230309Z
LAST-MODIFIED:20201021T230309Z
UID:41116-1604998800-1605004200@www.hackensackchamber.org
SUMMARY:Events Committee
DESCRIPTION:The events committee meets on the 2nd Tuesday of the month via zoom. The events committee plans the major events during the year including the gala\, beefsteak and scholarship event. This committee also helps to guide smaller events during the year.
URL:https://www.hackensackchamber.org/event/events-committee-10/
END:VEVENT
BEGIN:VEVENT
DTSTART;TZID=UTC:20201111T100000
DTEND;TZID=UTC:20201111T110000
DTSTAMP:20260422T114409
CREATED:20201031T032139Z
LAST-MODIFIED:20201031T032139Z
UID:42844-1605088800-1605092400@www.hackensackchamber.org
SUMMARY:Nonprofit Committee & Small Business Council Webinar
DESCRIPTION:Nonprofit Committee & Small Business Council Webinar: Creating & Sustaining Connections Through Change\nIn conjunction with Meadowlands Chamber of Commerce. Presented by the CEO of Burst & Fleurish\, Michelle Kaplan \n\n\n\n\n\n\n\n\n\nWednesday\, November 11\, 2020 10:00 AM – 11:00 AM
URL:https://www.hackensackchamber.org/event/nonprofit-committee-small-business-council-webinar/
END:VEVENT
BEGIN:VEVENT
DTSTART;TZID=UTC:20201118T093000
DTEND;TZID=UTC:20201118T103000
DTSTAMP:20260422T114409
CREATED:20201024T010136Z
LAST-MODIFIED:20201024T010136Z
UID:41444-1605691800-1605695400@www.hackensackchamber.org
SUMMARY:Women's Networking
DESCRIPTION:The goal of this group is for professional women to create an atmosphere where they are comfortable speaking about challenges in their work life. Ultimately\, the relationships build will help grow their business. \nEach session has a topic for the group to discuss. The women’s networking group meets for an hour but attendees are encouraged to stay and chat. \nThe group meets monthly on either the third or fourth Wednesday. There is no charge to attend but membership is required. \nTo host one of the meetings please call the Chamber office.
URL:https://www.hackensackchamber.org/event/womens-networking-5/
END:VEVENT
BEGIN:VEVENT
DTSTART;TZID=UTC:20201119T090000
DTEND;TZID=UTC:20201119T100000
DTSTAMP:20260422T114409
CREATED:20201023T235749Z
LAST-MODIFIED:20201023T235749Z
UID:41414-1605776400-1605780000@www.hackensackchamber.org
SUMMARY:Board of Directors Meeting
DESCRIPTION:The Board of Directors meets on the third Thursday of the month at 9 a.m. via zoom. All members are welcome to attend. The Board supervises and controls the direction of the Chamber and promotes its purpose. The directors serve three year terms\, not to exceed 12 years. Directors are expected to be actively involved in the Chamber\, including regular attendance at scheduled meetings\, participation in committees\, and participation in Chamber events and functions.
URL:https://www.hackensackchamber.org/event/board-of-directors-meeting-7/
END:VEVENT
BEGIN:VEVENT
DTSTART;TZID=UTC:20201119T120000
DTEND;TZID=UTC:20201119T140000
DTSTAMP:20260422T114409
CREATED:20201104T054752Z
LAST-MODIFIED:20201104T054752Z
UID:43085-1605787200-1605794400@www.hackensackchamber.org
SUMMARY:Thankful Thursday Luncheon
DESCRIPTION:We have much to be thankful for including YOUR our members! \nJoin us for outdoor lunch and networking! \n$25 to attend. \nCheers Bar & Restaurant \n774 Main St.\, Hackensack
URL:https://www.hackensackchamber.org/event/thankful-thursday-luncheon/
LOCATION:Cheers Bar & Restaurant\, 774 Main Street\, Hackensack\, NJ\, 07601
END:VEVENT
END:VCALENDAR