BEGIN:VCALENDAR
VERSION:2.0
PRODID:-//Hackensack Regional Chamber of Commerce - ECPv6.15.17.1//NONSGML v1.0//EN
CALSCALE:GREGORIAN
METHOD:PUBLISH
X-ORIGINAL-URL:https://www.hackensackchamber.org
X-WR-CALDESC:Events for Hackensack Regional Chamber of Commerce
REFRESH-INTERVAL;VALUE=DURATION:PT1H
X-Robots-Tag:noindex
X-PUBLISHED-TTL:PT1H
BEGIN:VTIMEZONE
TZID:UTC
BEGIN:STANDARD
TZOFFSETFROM:+0000
TZOFFSETTO:+0000
TZNAME:UTC
DTSTART:20190101T000000
END:STANDARD
END:VTIMEZONE
BEGIN:VEVENT
DTSTART;TZID=UTC:20200819T110000
DTEND;TZID=UTC:20200819T120000
DTSTAMP:20260422T183047
CREATED:20200814T170148Z
LAST-MODIFIED:20200814T170148Z
UID:33688-1597834800-1597838400@www.hackensackchamber.org
SUMMARY:The Future of Nonprofit Events\, Sponsorships & Collaborations
DESCRIPTION:https://meadowlandsnjcoc.wliinc15.com/events/The-Future-of-Nonprofit-Events-Sponsorships-Collaborations-4728/details \nMeadowlands Chamber members\, Action Graphics and City Harvest will present an informative program on how non profitscan move forward in this changing environment.  \nFree to attend.
URL:https://www.hackensackchamber.org/event/the-future-of-nonprofit-events-sponsorships-collaborations/
END:VEVENT
BEGIN:VEVENT
DTSTART;TZID=UTC:20200820T080000
DTEND;TZID=UTC:20200820T170000
DTSTAMP:20260422T183047
CREATED:20191211T022050Z
LAST-MODIFIED:20191211T022050Z
UID:4531-1597910400-1597942800@www.hackensackchamber.org
SUMMARY:Board of Directors Meeting
DESCRIPTION:The Board of Directors meets on the third Thursday of the month at 9 a.m. at the Ciarco Learning Center\, 355 Main St.\, Hackensack. All members are welcome to attend. The Board supervises and controls the direction of the Chamber and promotes its purpose. The directors serve three-year terms\, not to exceed 12 years. Directors are expected to be actively involved in the Chamber\, including regular attendance at scheduled meetings\, participation in committees and participation in Chamber events and functions. \nAll Chamber members are welcome to attend.
URL:https://www.hackensackchamber.org/event/board-of-directors-meeting-5/
LOCATION:Ciarco Learning Center\, 355 Main Street\, Hackensack\, NJ\, 07601\, United States
END:VEVENT
BEGIN:VEVENT
DTSTART;TZID=UTC:20200827T090000
DTEND;TZID=UTC:20200827T100000
DTSTAMP:20260422T183047
CREATED:20200814T165821Z
LAST-MODIFIED:20200814T170714Z
UID:33685-1598518800-1598522400@www.hackensackchamber.org
SUMMARY:Lawyers & Accountants
DESCRIPTION:Lawyers and Accountnts are encouraged to join this commitee to network with others in their respective industries. The committee discusses real-world cases\, responses to the changing environment and more. \nThis committee is for member businesses. All meetings\, at this time\, are being held via zoom.
URL:https://www.hackensackchamber.org/event/lawyers-accountants/
END:VEVENT
END:VCALENDAR