BEGIN:VCALENDAR
VERSION:2.0
PRODID:-//Hackensack Regional Chamber of Commerce - ECPv6.15.17.1//NONSGML v1.0//EN
CALSCALE:GREGORIAN
METHOD:PUBLISH
X-WR-CALNAME:Hackensack Regional Chamber of Commerce
X-ORIGINAL-URL:https://www.hackensackchamber.org
X-WR-CALDESC:Events for Hackensack Regional Chamber of Commerce
REFRESH-INTERVAL;VALUE=DURATION:PT1H
X-Robots-Tag:noindex
X-PUBLISHED-TTL:PT1H
BEGIN:VTIMEZONE
TZID:UTC
BEGIN:STANDARD
TZOFFSETFROM:+0000
TZOFFSETTO:+0000
TZNAME:UTC
DTSTART:20200101T000000
END:STANDARD
END:VTIMEZONE
BEGIN:VEVENT
DTSTART;TZID=UTC:20211012T090000
DTEND;TZID=UTC:20211012T170000
DTSTAMP:20260421T192718
CREATED:20210922T205307Z
LAST-MODIFIED:20210922T205307Z
UID:120761-1634029200-1634058000@www.hackensackchamber.org
SUMMARY:Events Committee
DESCRIPTION:The events committee meets on the 2nd Tuesday of the month via zoom. The events committee plans the major events during the year including the gala\, beefsteak and scholarship event. This committee also helps to guide smaller events during the year. \nTopic: Events Committee\nTime: This is a recurring meeting Meet anytime \nJoin Zoom Meeting\nhttps://us02web.zoom.us/j/81798498869?pwd=OFJLeHFWbXI0czNxM0VzakpzMnl2Zz09 \nMeeting ID: 817 9849 8869\nPasscode: 314587\nOne tap mobile\n+13126266799\,\,81798498869#\,\,\,\,*314587# US (Chicago)\n+19292056099\,\,81798498869#\,\,\,\,*314587# US (New York) \nDial by your location\n+1 312 626 6799 US (Chicago)\n+1 929 205 6099 US (New York)\n+1 301 715 8592 US (Washington DC)\n+1 346 248 7799 US (Houston)\n+1 669 900 6833 US (San Jose)\n+1 253 215 8782 US (Tacoma)\nMeeting ID: 817 9849 8869\nPasscode: 314587\nFind your local number: https://us02web.zoom.us/u/kbmO5hngUh \n 
URL:https://www.hackensackchamber.org/event/events-committee-20/
END:VEVENT
BEGIN:VEVENT
DTSTART;TZID=UTC:20210930T090000
DTEND;TZID=UTC:20210930T100000
DTSTAMP:20260421T192718
CREATED:20210112T000320Z
LAST-MODIFIED:20210112T000320Z
UID:55328-1632992400-1632996000@www.hackensackchamber.org
SUMMARY:Lawyers & Accountants
DESCRIPTION:The Lawyers and Accountant Committee meets once per month to network and go over industry related topics. The main goal of the group is to better understand the subtle nuances of each member’s business in order to encourage referrals and introductions. From time to time the group will present case studies and host educational events for the main Chamber members. \nCommittee Chair: Joe Saccomanno\, AXA Financial Advisors\, LLC\, Joseph.Saccomanno@equitable.com
URL:https://www.hackensackchamber.org/event/lawyers-accountants-8/
END:VEVENT
BEGIN:VEVENT
DTSTART;TZID=UTC:20210923T180000
DTEND;TZID=UTC:20210923T180000
DTSTAMP:20260421T192718
CREATED:20210729T215049Z
LAST-MODIFIED:20210729T215049Z
UID:113559-1632420000-1632420000@www.hackensackchamber.org
SUMMARY:Gala 2021
DESCRIPTION:  \nIndividual Tickets $150 \nEvent Sponsorships & Journal Ads Available. Call 201-489-3700 or email info@hackensackchamber.org \n 
URL:https://www.hackensackchamber.org/event/gala-2021/
LOCATION:Sanzaris New Bridge Inn\, 105 Old New Bridge Road\, New Milford\, NJ
END:VEVENT
BEGIN:VEVENT
DTSTART;TZID=UTC:20210921T090000
DTEND;TZID=UTC:20210921T100000
DTSTAMP:20260421T192718
CREATED:20210722T224912Z
LAST-MODIFIED:20210722T224912Z
UID:112635-1632214800-1632218400@www.hackensackchamber.org
SUMMARY:ICC Event Coming Soon
DESCRIPTION:
URL:https://www.hackensackchamber.org/event/icc-event-coming-soon/
END:VEVENT
BEGIN:VEVENT
DTSTART;TZID=UTC:20210921T083000
DTEND;TZID=UTC:20210921T100000
DTSTAMP:20260421T192718
CREATED:20210822T215655Z
LAST-MODIFIED:20210822T215655Z
UID:118855-1632213000-1632218400@www.hackensackchamber.org
SUMMARY:Multi-Chamber Networking with Tom Bracken
DESCRIPTION:
URL:https://www.hackensackchamber.org/event/multi-chamber-networking-with-tom-bracken/
LOCATION:Felina\, 54 East Ridgewood Avenue\, Ridgewood\, NJ\, 07451
END:VEVENT
BEGIN:VEVENT
DTSTART;TZID=UTC:20210916T090000
DTEND;TZID=UTC:20210916T100000
DTSTAMP:20260421T192718
CREATED:20201024T003953Z
LAST-MODIFIED:20201024T003953Z
UID:41439-1631782800-1631786400@www.hackensackchamber.org
SUMMARY:Board of Directors Meeting
DESCRIPTION:The Board of Directors meets on the third Thursday of the month at 9 a.m. via zoom. All members are welcome to attend. The Board supervises and controls the direction of the Chamber and promotes its purpose. The directors serve three year terms\, not to exceed 12 years. Directors are expected to be actively involved in the Chamber\, including regular attendance at scheduled meetings\, participation in committees\, and participation in Chamber events and functions.
URL:https://www.hackensackchamber.org/event/board-of-directors-meeting-10/
END:VEVENT
BEGIN:VEVENT
DTSTART;TZID=UTC:20210915T093000
DTEND;TZID=UTC:20210915T103000
DTSTAMP:20260421T192718
CREATED:20210721T191253Z
LAST-MODIFIED:20210721T191253Z
UID:112320-1631698200-1631701800@www.hackensackchamber.org
SUMMARY:Women's Networking with Jackie Lapin SpeakerTunity® 
DESCRIPTION:Jackie Lapin is a leader in helping leaders\, authors\, coaches\, speakers and entrepreneurs connect with their next followers around the globe. An expert at aiding them to GET BOOKED\, she provides strategies\, guidance and direct leads through her SpeakerTunity®  programs\, tip sheets and regional directories that get changemakers booked for speaking engagements\, radio shows\, podcasts\, virtual summits\, TEDx events and virtual networking across North America. SpeakerTunity® also offers a speaker-one sheet graphic design service\, booking systems and training to fill up your speaking calendar. SpeakerTunity® is The Ultimate Speaker’s Tool Box. \nHer internationally acclaimed Conscious Media Relations Radio/Podcast Tours have helped nearly 200 luminaries\, leaders\, filmmakers and authors grow their businesses\, sell more books\, create viewership and change more lives by introducing them to up to 9000 radio shows and podcasts\, including such clients as Don Miguel Ruiz\, Dr. Joe Vitale\, James Twyman\, Denise Linn\, Arielle Ford\, Hay House and more. \nThe event will be held via zoom. Zoom instructions will be sent the night before the event.
URL:https://www.hackensackchamber.org/event/womens-networking-with-jackie-lapin-speakertunity/
END:VEVENT
BEGIN:VEVENT
DTSTART;TZID=UTC:20210915T090000
DTEND;TZID=UTC:20210915T100000
DTSTAMP:20260421T192718
CREATED:20201023T235433Z
LAST-MODIFIED:20210621T192142Z
UID:41411-1631696400-1631700000@www.hackensackchamber.org
SUMMARY:Membership/Marketing Committee
DESCRIPTION:The membership/marketing committee meets on the 2nd Monday of the month at 9 a.m. via zoom. The committee plans the May is Membership events and the General Membership event. The committee also welcomes new members in person at their place of business. They act as ambassadors to greet attendees at major events throughout the year.
URL:https://www.hackensackchamber.org/event/membership-marketing-committee-13/
END:VEVENT
BEGIN:VEVENT
DTSTART;TZID=UTC:20210914T090000
DTEND;TZID=UTC:20210914T100000
DTSTAMP:20260421T192718
CREATED:20201021T230904Z
LAST-MODIFIED:20201021T230904Z
UID:41143-1631610000-1631613600@www.hackensackchamber.org
SUMMARY:Events Committee
DESCRIPTION:The events committee meets on the 2nd Tuesday of the month via zoom. The events committee plans the major events during the year including the gala\, beefsteak and scholarship event. This committee also helps to guide smaller events during the year.
URL:https://www.hackensackchamber.org/event/events-committee-19/
END:VEVENT
BEGIN:VEVENT
DTSTART;TZID=UTC:20210910T100000
DTEND;TZID=UTC:20210910T110000
DTSTAMP:20260421T192718
CREATED:20210611T231909Z
LAST-MODIFIED:20210611T231909Z
UID:100377-1631268000-1631271600@www.hackensackchamber.org
SUMMARY:Non Profit Committee
DESCRIPTION:Join other non profit professionals for networking and discussing an issue of the day. Currently held via zoom – link is sent the night before. Free to chamber members.
URL:https://www.hackensackchamber.org/event/non-profit-committee-4/
END:VEVENT
BEGIN:VEVENT
DTSTART;TZID=UTC:20210908T090000
DTEND;TZID=UTC:20210908T100000
DTSTAMP:20260421T192718
CREATED:20210707T174322Z
LAST-MODIFIED:20210707T174322Z
UID:108545-1631091600-1631095200@www.hackensackchamber.org
SUMMARY:Veterans Networking Group
DESCRIPTION:The Hackensack Regional Chamber of Commerce now has a group specifically for Veterans who own a business or are working. The group will host events for working veterans as well as community service projects throughout the year. \nThe meeting will be held via zoom. Zoom information is sent the night before the meeting. \nFree to members.
URL:https://www.hackensackchamber.org/event/veterans-networking-group-4/
END:VEVENT
BEGIN:VEVENT
DTSTART;TZID=UTC:20210826T090000
DTEND;TZID=UTC:20210826T100000
DTSTAMP:20260421T192718
CREATED:20210112T000237Z
LAST-MODIFIED:20210112T000237Z
UID:55325-1629968400-1629972000@www.hackensackchamber.org
SUMMARY:Lawyers & Accountants
DESCRIPTION:The Lawyers and Accountant Committee meets once per month to network and go over industry related topics. The main goal of the group is to better understand the subtle nuances of each member’s business in order to encourage referrals and introductions. From time to time the group will present case studies and host educational events for the main Chamber members. \nCommittee Chair: Joe Saccomanno\, AXA Financial Advisors\, LLC\, Joseph.Saccomanno@equitable.com
URL:https://www.hackensackchamber.org/event/lawyers-accountants-7/
END:VEVENT
BEGIN:VEVENT
DTSTART;TZID=UTC:20210819T090000
DTEND;TZID=UTC:20210819T100000
DTSTAMP:20260421T192718
CREATED:20201024T003909Z
LAST-MODIFIED:20201024T003909Z
UID:41435-1629363600-1629367200@www.hackensackchamber.org
SUMMARY:Board of Directors
DESCRIPTION:The Board of Directors meets on the third Thursday of the month at 9 a.m. via zoom. All members are welcome to attend. The Board supervises and controls the direction of the Chamber and promotes its purpose. The directors serve three year terms\, not to exceed 12 years. Directors are expected to be actively involved in the Chamber\, including regular attendance at scheduled meetings\, participation in committees\, and participation in Chamber events and functions.
URL:https://www.hackensackchamber.org/event/board-of-directors-4/
END:VEVENT
BEGIN:VEVENT
DTSTART;TZID=UTC:20210810T090000
DTEND;TZID=UTC:20210810T100000
DTSTAMP:20260421T192718
CREATED:20201021T230824Z
LAST-MODIFIED:20201021T230824Z
UID:41140-1628586000-1628589600@www.hackensackchamber.org
SUMMARY:Events Committee
DESCRIPTION:The events committee meets on the 2nd Tuesday of the month via zoom. The events committee plans the major events during the year including the gala\, beefsteak and scholarship event. This committee also helps to guide smaller events during the year.
URL:https://www.hackensackchamber.org/event/events-committee-18/
END:VEVENT
BEGIN:VEVENT
DTSTART;TZID=UTC:20210729T090000
DTEND;TZID=UTC:20210729T100000
DTSTAMP:20260421T192718
CREATED:20210112T000142Z
LAST-MODIFIED:20210112T000142Z
UID:55322-1627549200-1627552800@www.hackensackchamber.org
SUMMARY:Lawyers & Accountants
DESCRIPTION:The Lawyers and Accountant Committee meets once per month to network and go over industry related topics. The main goal of the group is to better understand the subtle nuances of each member’s business in order to encourage referrals and introductions. From time to time the group will present case studies and host educational events for the main Chamber members. \nCommittee Chair: Joe Saccomanno\, AXA Financial Advisors\, LLC\, Joseph.Saccomanno@equitable.com
URL:https://www.hackensackchamber.org/event/lawyers-accountants-6/
END:VEVENT
BEGIN:VEVENT
DTSTART;TZID=UTC:20210721T093000
DTEND;TZID=UTC:20210721T103000
DTSTAMP:20260421T192718
CREATED:20210617T191001Z
LAST-MODIFIED:20210617T191001Z
UID:102558-1626859800-1626863400@www.hackensackchamber.org
SUMMARY:Women's Networking
DESCRIPTION:Professional women come together monthly to network\, talk about business issues and more. \nThis meeting will be IN PERSON at the Chamber office. \nFree to members of the Chamber. \n 
URL:https://www.hackensackchamber.org/event/womens-networking-16/
END:VEVENT
BEGIN:VEVENT
DTSTART;TZID=UTC:20210715T080000
DTEND;TZID=UTC:20210715T100000
DTSTAMP:20260421T192718
CREATED:20210514T181648Z
LAST-MODIFIED:20210621T191630Z
UID:93887-1626336000-1626343200@www.hackensackchamber.org
SUMMARY:Blitzr Speed Networking
DESCRIPTION:
URL:https://www.hackensackchamber.org/event/blitzr-speed-networking/
END:VEVENT
BEGIN:VEVENT
DTSTART;TZID=UTC:20210714T090000
DTEND;TZID=UTC:20210714T100000
DTSTAMP:20260421T192718
CREATED:20201023T235358Z
LAST-MODIFIED:20210621T192240Z
UID:41408-1626253200-1626256800@www.hackensackchamber.org
SUMMARY:Membership/Marketing Committee
DESCRIPTION:The membership/marketing committee meets on the 2nd Monday of the month at 9 a.m. via zoom. The committee plans the May is Membership events and the General Membership event. The committee also welcomes new members in person at their place of business. They act as ambassadors to greet attendees at major events throughout the year.
URL:https://www.hackensackchamber.org/event/membership-marketing-committee-12/
END:VEVENT
BEGIN:VEVENT
DTSTART;TZID=UTC:20210713T090000
DTEND;TZID=UTC:20210713T100000
DTSTAMP:20260421T192718
CREATED:20201021T230752Z
LAST-MODIFIED:20201021T230752Z
UID:41137-1626166800-1626170400@www.hackensackchamber.org
SUMMARY:Events Committee
DESCRIPTION:The events committee meets on the 2nd Tuesday of the month via zoom. The events committee plans the major events during the year including the gala\, beefsteak and scholarship event. This committee also helps to guide smaller events during the year.
URL:https://www.hackensackchamber.org/event/events-committee-17/
END:VEVENT
BEGIN:VEVENT
DTSTART;TZID=UTC:20210707T090000
DTEND;TZID=UTC:20210707T100000
DTSTAMP:20260421T192718
CREATED:20210609T184037Z
LAST-MODIFIED:20210609T184037Z
UID:99746-1625648400-1625652000@www.hackensackchamber.org
SUMMARY:Veteran's Networking Group
DESCRIPTION:The Hackensack Regional Chamber of Commerce now has a group specifically for Veterans who own a business or are working. The group will host events for working veterans as well as community service projects throughout the year. \nThe meeting will be held via zoom. Zoom information is sent the night before the meeting. \nFree to members.
URL:https://www.hackensackchamber.org/event/veterans-networking-group-3/
END:VEVENT
BEGIN:VEVENT
DTSTART;TZID=UTC:20210624T090000
DTEND;TZID=UTC:20210624T100000
DTSTAMP:20260421T192718
CREATED:20210112T000058Z
LAST-MODIFIED:20210112T000058Z
UID:55319-1624525200-1624528800@www.hackensackchamber.org
SUMMARY:Lawyers & Accountants
DESCRIPTION:The Lawyers and Accountant Committee meets once per month to network and go over industry related topics. The main goal of the group is to better understand the subtle nuances of each member’s business in order to encourage referrals and introductions. From time to time the group will present case studies and host educational events for the main Chamber members. \nCommittee Chair: Joe Saccomanno\, AXA Financial Advisors\, LLC\, Joseph.Saccomanno@equitable.com
URL:https://www.hackensackchamber.org/event/lawyers-accountants-5/
END:VEVENT
BEGIN:VEVENT
DTSTART;TZID=UTC:20210623T173000
DTEND;TZID=UTC:20210623T203000
DTSTAMP:20260421T192718
CREATED:20210513T215854Z
LAST-MODIFIED:20210604T225516Z
UID:93692-1624469400-1624480200@www.hackensackchamber.org
SUMMARY:Toast of the Town
DESCRIPTION:To book a sponsorship\, please call the Chamber office at 201-489-3700 or email info@hackensackchamber.org.
URL:https://www.hackensackchamber.org/event/toast-of-the-town/
END:VEVENT
BEGIN:VEVENT
DTSTART;TZID=UTC:20210617T090000
DTEND;TZID=UTC:20210617T100000
DTSTAMP:20260421T192718
CREATED:20201024T003819Z
LAST-MODIFIED:20201024T003819Z
UID:41432-1623920400-1623924000@www.hackensackchamber.org
SUMMARY:Board of Directors
DESCRIPTION:The Board of Directors meets on the third Thursday of the month at 9 a.m. via zoom. All members are welcome to attend. The Board supervises and controls the direction of the Chamber and promotes its purpose. The directors serve three year terms\, not to exceed 12 years. Directors are expected to be actively involved in the Chamber\, including regular attendance at scheduled meetings\, participation in committees\, and participation in Chamber events and functions.
URL:https://www.hackensackchamber.org/event/board-of-directors-3/
END:VEVENT
BEGIN:VEVENT
DTSTART;TZID=UTC:20210616T093000
DTEND;TZID=UTC:20210616T103000
DTSTAMP:20260421T192718
CREATED:20201024T011243Z
LAST-MODIFIED:20210505T203208Z
UID:41466-1623835800-1623839400@www.hackensackchamber.org
SUMMARY:Women's Networking
DESCRIPTION:The goal of this group is for professional women to create an atmosphere where they are comfortable speaking about challenges in their work life. Ultimately\, the relationships build will help grow their business. \nEach session has a topic for the group to discuss. The women’s networking group meets for an hour but attendees are encouraged to stay and chat. \nThe group meets monthly on either the third or fourth Wednesday. There is no charge to attend but membership is required. \nTo host one of the meetings please call the Chamber office.
URL:https://www.hackensackchamber.org/event/womens-networking-15/
END:VEVENT
BEGIN:VEVENT
DTSTART;TZID=UTC:20210614T090000
DTEND;TZID=UTC:20210614T100000
DTSTAMP:20260421T192718
CREATED:20201023T235324Z
LAST-MODIFIED:20201023T235324Z
UID:41405-1623661200-1623664800@www.hackensackchamber.org
SUMMARY:Membership/Marketing Committee
DESCRIPTION:The membership/marketing committee meets on the 2nd Monday of the month at 9 a.m. via zoom. The committee plans the May is Membership events and the General Membership event. The committee also welcomes new members in person at their place of business. They act as ambassadors to greet attendees at major events throughout the year.
URL:https://www.hackensackchamber.org/event/membership-marketing-committee-11/
END:VEVENT
BEGIN:VEVENT
DTSTART;TZID=UTC:20210611T100000
DTEND;TZID=UTC:20210611T110000
DTSTAMP:20260421T192718
CREATED:20210409T185916Z
LAST-MODIFIED:20210409T185916Z
UID:84484-1623405600-1623409200@www.hackensackchamber.org
SUMMARY:Non Profit Committee
DESCRIPTION:Join other non profit professionals for networking and discussing an issue of the day. Currently held via zoom – link is sent the night before. Free to chamber members.
URL:https://www.hackensackchamber.org/event/non-profit-committee-3/
END:VEVENT
BEGIN:VEVENT
DTSTART;TZID=UTC:20210610T170000
DTEND;TZID=UTC:20210610T190000
DTSTAMP:20260421T192718
CREATED:20210505T200500Z
LAST-MODIFIED:20210602T190116Z
UID:91703-1623344400-1623351600@www.hackensackchamber.org
SUMMARY:Legal and Financial Implications of the 1st 100 Days
DESCRIPTION:The Accountants and Attorneys committee welcome you to join them on June 10th at 22 Sussex to engage in a discussion regarding the Tax and Estate law changes that the Biden administration has recently proposed.  During this conversation we will review the president’s proposal and timeline and discuss how these changes will affect individual tax and estate planning as well as the planning for the small to mid-sized business community.  Lastly\, we will provide an overview of the investment implications that may come with any proposed capital gains tax changes.
URL:https://www.hackensackchamber.org/event/legal-and-financial-implications-of-the-1st-100-days/
LOCATION:22 Sussex\, 22 Sussex Street\, NJ\, 07601
END:VEVENT
BEGIN:VEVENT
DTSTART;TZID=UTC:20210609T090000
DTEND;TZID=UTC:20210609T100000
DTSTAMP:20260421T192718
CREATED:20210505T175132Z
LAST-MODIFIED:20210505T175132Z
UID:91700-1623229200-1623232800@www.hackensackchamber.org
SUMMARY:Veterans' Networking Group
DESCRIPTION:The Hackensack Regional Chamber of Commerce now has a group specifically for Veterans who own a business or are working. The group will host events for working veterans as well as community service projects throughout the year. \nThe meeting will be held via zoom. Zoom information is sent the night before the meeting. \nFree to members.
URL:https://www.hackensackchamber.org/event/veterans-networking-group-2/
END:VEVENT
BEGIN:VEVENT
DTSTART;TZID=UTC:20210607T090000
DTEND;TZID=UTC:20210607T100000
DTSTAMP:20260421T192718
CREATED:20201021T230722Z
LAST-MODIFIED:20210527T203411Z
UID:41134-1623056400-1623060000@www.hackensackchamber.org
SUMMARY:Events Committee
DESCRIPTION:The events committee meets on the 2nd Tuesday of the month via zoom. The events committee plans the major events during the year including the gala\, beefsteak and scholarship event. This committee also helps to guide smaller events during the year.
URL:https://www.hackensackchamber.org/event/events-committee-16/
END:VEVENT
BEGIN:VEVENT
DTSTART;TZID=UTC:20210527T090000
DTEND;TZID=UTC:20210527T100000
DTSTAMP:20260421T192718
CREATED:20210112T000004Z
LAST-MODIFIED:20210112T000004Z
UID:55316-1622106000-1622109600@www.hackensackchamber.org
SUMMARY:Lawyers & Accountants
DESCRIPTION:The Lawyers and Accountant Committee meets once per month to network and go over industry related topics. The main goal of the group is to better understand the subtle nuances of each member’s business in order to encourage referrals and introductions. From time to time the group will present case studies and host educational events for the main Chamber members. \nCommittee Chair: Joe Saccomanno\, AXA Financial Advisors\, LLC\, Joseph.Saccomanno@equitable.com
URL:https://www.hackensackchamber.org/event/lawyers-accountants-4/
END:VEVENT
END:VCALENDAR