BEGIN:VCALENDAR
VERSION:2.0
PRODID:-//Hackensack Regional Chamber of Commerce - ECPv6.15.17.1//NONSGML v1.0//EN
CALSCALE:GREGORIAN
METHOD:PUBLISH
X-WR-CALNAME:Hackensack Regional Chamber of Commerce
X-ORIGINAL-URL:https://www.hackensackchamber.org
X-WR-CALDESC:Events for Hackensack Regional Chamber of Commerce
REFRESH-INTERVAL;VALUE=DURATION:PT1H
X-Robots-Tag:noindex
X-PUBLISHED-TTL:PT1H
BEGIN:VTIMEZONE
TZID:UTC
BEGIN:STANDARD
TZOFFSETFROM:+0000
TZOFFSETTO:+0000
TZNAME:UTC
DTSTART:20180101T000000
END:STANDARD
END:VTIMEZONE
BEGIN:VTIMEZONE
TZID:America/New_York
BEGIN:DAYLIGHT
TZOFFSETFROM:-0500
TZOFFSETTO:-0400
TZNAME:EDT
DTSTART:20190310T070000
END:DAYLIGHT
BEGIN:STANDARD
TZOFFSETFROM:-0400
TZOFFSETTO:-0500
TZNAME:EST
DTSTART:20191103T060000
END:STANDARD
BEGIN:DAYLIGHT
TZOFFSETFROM:-0500
TZOFFSETTO:-0400
TZNAME:EDT
DTSTART:20200308T070000
END:DAYLIGHT
BEGIN:STANDARD
TZOFFSETFROM:-0400
TZOFFSETTO:-0500
TZNAME:EST
DTSTART:20201101T060000
END:STANDARD
BEGIN:DAYLIGHT
TZOFFSETFROM:-0500
TZOFFSETTO:-0400
TZNAME:EDT
DTSTART:20210314T070000
END:DAYLIGHT
BEGIN:STANDARD
TZOFFSETFROM:-0400
TZOFFSETTO:-0500
TZNAME:EST
DTSTART:20211107T060000
END:STANDARD
END:VTIMEZONE
BEGIN:VEVENT
DTSTART;TZID=UTC:20200513T093000
DTEND;TZID=UTC:20200513T103000
DTSTAMP:20260423T022320
CREATED:20200108T221144Z
LAST-MODIFIED:20200108T221144Z
UID:8535-1589362200-1589365800@www.hackensackchamber.org
SUMMARY:Hispanic Business Committee
DESCRIPTION:The Hispanic Business Committee meets monthly on the 2nd Wednesday of the month at the Chamber office.  The committee is chaired by Wil Chillin of One Eleven Beauty and Aesthetic Studio in Hackensack. They work together to discuss issues that affect Hispanic Businesses as well as business in general. They also canvass the Chamber’s area to invite new businesses to attend committee meetings and events. \nThey planned their first Meet & Greet in May and it was a huge success.  Look for another event in the Fall.  There is no charge to attend the committee\, but membership in the Chamber is encouraged.  Members of the committee are expected to speak Spanish
URL:https://www.hackensackchamber.org/event/hispanic-business-committee-4/
END:VEVENT
BEGIN:VEVENT
DTSTART;TZID=UTC:20200512T090000
DTEND;TZID=UTC:20200512T100000
DTSTAMP:20260423T022320
CREATED:20191211T023855Z
LAST-MODIFIED:20200505T182732Z
UID:4574-1589274000-1589277600@www.hackensackchamber.org
SUMMARY:Events Committee
DESCRIPTION:The events committee meets on the 2nd Tuesday of the month via Zoom at 9 a.m. The events committee plans the major events during the year including the gala\, beefsteak and scholarship event. This committee also helps to guide smaller events during the year. \n  \nJoin Zoom Meeting\nhttps://us02web.zoom.us/j/86776475017?pwd=UGlqaGZ0STF3Y0pXSHJyWktsaGFUdz09 \nMeeting ID: 867 7647 5017\nPassword: 008434\nOne tap mobile\n+19292056099\,\,86776475017#\,\,1#\,008434# US (New York)\n+13017158592\,\,86776475017#\,\,1#\,008434# US (Germantown) \nDial by your location\n+1 929 205 6099 US (New York)
URL:https://www.hackensackchamber.org/event/events-committee-5/
LOCATION:Zoom\, 66 Moore Street\, Hackensack\, NJ\, 07601\, United States
END:VEVENT
BEGIN:VEVENT
DTSTART;TZID=UTC:20200511T090000
DTEND;TZID=UTC:20200511T100000
DTSTAMP:20260423T022320
CREATED:20191211T022955Z
LAST-MODIFIED:20200505T165416Z
UID:4553-1589187600-1589191200@www.hackensackchamber.org
SUMMARY:Marketing/Membership Committee
DESCRIPTION:The marketing/membership committee meets on the 2nd Monday of the month via Zoom. This committee plans the May is Membership Event and the General Membership Event. The committee also helps to welcome new members in person at their place of business. They act as ambassadors to greet attendees at major events throughout the year. \nJoin Zoom Meeting\nhttps://us02web.zoom.us/j/85900951228?pwd=NEFaQ1l0WGlLVDBLSThkUkJaQnh0UT09 \nMeeting ID: 859 0095 1228\nPassword: 022920\nOne tap mobile\n+19292056099\,\,85900951228#\,\,1#\,022920# US (New York)\n+13017158592\,\,85900951228#\,\,1#\,022920# US (Germantown) \nDial by your location\n+1 929 205 6099 US (New York)
URL:https://www.hackensackchamber.org/event/marketing-membership-committee-2/
LOCATION:Zoom\, 66 Moore Street\, Hackensack\, NJ\, 07601\, United States
END:VEVENT
BEGIN:VEVENT
DTSTART;TZID=UTC:20200430T083000
DTEND;TZID=UTC:20200430T093000
DTSTAMP:20260423T022320
CREATED:20191212T220352Z
LAST-MODIFIED:20191212T220352Z
UID:4880-1588235400-1588239000@www.hackensackchamber.org
SUMMARY:Lawyers and Accountants Committee
DESCRIPTION:The Lawyers and Accountants committee meets once per month to network and go over industry related topics.  he main goal of the group is to better understand the subtle nuances of each member’s business in order to encourage referrals and introductions.  From time to time the group will present case studies and host educational events for the main chamber members.  The Committee Chair is Joe Saccomanno from AXA Financial Advisors\, LLC. \n 
URL:https://www.hackensackchamber.org/event/lawyers-and-accountants-committee-4/
END:VEVENT
BEGIN:VEVENT
DTSTART;TZID=UTC:20200421T090000
DTEND;TZID=UTC:20200421T100000
DTSTAMP:20260423T022320
CREATED:20191211T023814Z
LAST-MODIFIED:20191211T023814Z
UID:4571-1587459600-1587463200@www.hackensackchamber.org
SUMMARY:Events Committee
DESCRIPTION:The events committee meets on the 2nd Tuesday of the month at the Chamber office at 9 a.m. The events committee plans the major events during the year including the gala\, beefsteak and scholarship event. This committee also helps to guide smaller events during the year.
URL:https://www.hackensackchamber.org/event/events-committee-4/
LOCATION:Zoom\, 66 Moore Street\, Hackensack\, NJ\, 07601\, United States
END:VEVENT
BEGIN:VEVENT
DTSTART;TZID=UTC:20200420T090000
DTEND;TZID=UTC:20200420T100000
DTSTAMP:20260423T022320
CREATED:20191211T022905Z
LAST-MODIFIED:20191211T022905Z
UID:4550-1587373200-1587376800@www.hackensackchamber.org
SUMMARY:Membership/Marketing Committee
DESCRIPTION:The marketing/membership committee meets on the 2nd Monday of the month at the Chamber office at 9 a.m. This committee plans the May is Membership Event and the General Membership Event. The committee also helps to welcome new members in person at their place of business. They act as ambassadors to greet attendees at major events throughout the year.
URL:https://www.hackensackchamber.org/event/membership-marketing-committee-3/
LOCATION:Zoom\, 66 Moore Street\, Hackensack\, NJ\, 07601\, United States
END:VEVENT
BEGIN:VEVENT
DTSTART;TZID=UTC:20200416T090000
DTEND;TZID=UTC:20200416T100000
DTSTAMP:20260423T022320
CREATED:20191211T021915Z
LAST-MODIFIED:20191211T021915Z
UID:4525-1587027600-1587031200@www.hackensackchamber.org
SUMMARY:Board of Directors Meeting
DESCRIPTION:The Board of Directors meets on the third Thursday of the month at 9 a.m. at the Ciarco Learning Center\, 355 Main St.\, Hackensack. All members are welcome to attend. The Board supervises and controls the direction of the Chamber and promotes its purpose. The directors serve three-year terms\, not to exceed 12 years. Directors are expected to be actively involved in the Chamber\, including regular attendance at scheduled meetings\, participation in committees and participation in Chamber events and functions. \nAll Chamber members are welcome to attend.
URL:https://www.hackensackchamber.org/event/board-of-directors-meeting-3/
LOCATION:Ciarco Learning Center\, 355 Main Street\, Hackensack\, NJ\, 07601\, United States
END:VEVENT
BEGIN:VEVENT
DTSTART;TZID=UTC:20200408T093000
DTEND;TZID=UTC:20200408T103000
DTSTAMP:20260423T022320
CREATED:20200108T220950Z
LAST-MODIFIED:20200108T220950Z
UID:8532-1586338200-1586341800@www.hackensackchamber.org
SUMMARY:Hispanic Business Committee
DESCRIPTION:The Hispanic Business Committee meets monthly on the 2nd Wednesday of the month at the Chamber office.  The committee is chaired by Wil Chillin of One Eleven Beauty and Aesthetic Studio in Hackensack. They work together to discuss issues that affect Hispanic Businesses as well as business in general. They also canvass the Chamber’s area to invite new businesses to attend committee meetings and events. \nThey planned their first Meet & Greet in May and it was a huge success.  Look for another event in the Fall.  There is no charge to attend the committee\, but membership in the Chamber is encouraged.  Members of the committee are expected to speak Spanish
URL:https://www.hackensackchamber.org/event/hispanic-business-committee-3/
END:VEVENT
BEGIN:VEVENT
DTSTART;TZID=UTC:20200319T090000
DTEND;TZID=UTC:20200319T100000
DTSTAMP:20260423T022320
CREATED:20191211T021755Z
LAST-MODIFIED:20191211T021822Z
UID:4520-1584608400-1584612000@www.hackensackchamber.org
SUMMARY:Board of Directors Meeting
DESCRIPTION:The Board of Directors meets on the third Thursday of the month at 9 a.m. at the Ciarco Learning Center\, 355 Main St.\, Hackensack. All members are welcome to attend. The Board supervises and controls the direction of the Chamber and promotes its purpose. The directors serve three-year terms\, not to exceed 12 years. Directors are expected to be actively involved in the Chamber\, including regular attendance at scheduled meetings\, participation in committees and participation in Chamber events and functions. \nAll Chamber members are welcome to attend.
URL:https://www.hackensackchamber.org/event/board-of-directors-meeting-2/
LOCATION:Ciarco Learning Center\, 355 Main Street\, Hackensack\, NJ\, 07601\, United States
END:VEVENT
BEGIN:VEVENT
DTSTART;TZID=UTC:20200311T093000
DTEND;TZID=UTC:20200311T103000
DTSTAMP:20260423T022320
CREATED:20200108T220759Z
LAST-MODIFIED:20200108T220759Z
UID:8528-1583919000-1583922600@www.hackensackchamber.org
SUMMARY:Hispanic Business Committee
DESCRIPTION:The Hispanic Business Committee meets monthly on the 2nd Wednesday of the month at the Chamber office.  The committee is chaired by Wil Chillin of One Eleven Beauty and Aesthetic Studio in Hackensack. They work together to discuss issues that affect Hispanic Businesses as well as business in general. They also canvass the Chamber’s area to invite new businesses to attend committee meetings and events. \nThey planned their first Meet & Greet in May and it was a huge success.  Look for another event in the Fall.  There is no charge to attend the committee\, but membership in the Chamber is encouraged.  Members of the committee are expected to speak Spanish \n 
URL:https://www.hackensackchamber.org/event/hispanic-business-committee-2/
END:VEVENT
BEGIN:VEVENT
DTSTART;TZID=UTC:20200310T180000
DTEND;TZID=UTC:20200310T200000
DTSTAMP:20260423T022320
CREATED:20200204T210908Z
LAST-MODIFIED:20200204T215007Z
UID:12828-1583863200-1583870400@www.hackensackchamber.org
SUMMARY:Young Professionals Networking
DESCRIPTION:03.10.20 \nYoung Professionals Networking – Must be 40 and Under to attend \n6 p.m. \nCheers Bar & Restaurant \n$20 to attend \nLight refreshments will be served. Cash bar. \nIn conjunction with: Paramus Regional Chamber of Commerce\, Ridgewood Chamber of Commerce\, Fort Lee Chamber of Commerce\, Fair Lawn Chamber of Commerce
URL:https://www.hackensackchamber.org/event/12828/
LOCATION:Cheers Bar & Restaurant\, 774 Main Street\, Hackensack\, NJ\, 07601
END:VEVENT
BEGIN:VEVENT
DTSTART;TZID=UTC:20200310T090000
DTEND;TZID=UTC:20200310T100000
DTSTAMP:20260423T022320
CREATED:20191211T023707Z
LAST-MODIFIED:20191211T023707Z
UID:4568-1583830800-1583834400@www.hackensackchamber.org
SUMMARY:Events Committee
DESCRIPTION:The events committee meets on the 2nd Tuesday of the month at the Chamber office at 9 a.m. The events committee plans the major events during the year including the gala\, beefsteak and scholarship event. This committee also helps to guide smaller events during the year.
URL:https://www.hackensackchamber.org/event/events-committee-3/
LOCATION:Zoom\, 66 Moore Street\, Hackensack\, NJ\, 07601\, United States
END:VEVENT
BEGIN:VEVENT
DTSTART;TZID=UTC:20200309T090000
DTEND;TZID=UTC:20200309T100000
DTSTAMP:20260423T022320
CREATED:20191211T022736Z
LAST-MODIFIED:20191211T022736Z
UID:4547-1583744400-1583748000@www.hackensackchamber.org
SUMMARY:Membership/Marketing Committee
DESCRIPTION:The marketing/membership committee meets on the 2nd Monday of the month at the Chamber office at 9 a.m. This committee plans the May is Membership Event and the General Membership Event. The committee also helps to welcome new members in person at their place of business. They act as ambassadors to greet attendees at major events throughout the year.
URL:https://www.hackensackchamber.org/event/membership-marketing-committee-2/
LOCATION:Zoom\, 66 Moore Street\, Hackensack\, NJ\, 07601\, United States
END:VEVENT
BEGIN:VEVENT
DTSTART;TZID=UTC:20200304T080000
DTEND;TZID=UTC:20200304T100000
DTSTAMP:20260423T022320
CREATED:20200129T004024Z
LAST-MODIFIED:20200210T230418Z
UID:11731-1583308800-1583316000@www.hackensackchamber.org
SUMMARY:Meet & Greet with the Attorneys & Accountants Group
DESCRIPTION:Start off the new year with some solid tips for the accounting and legal professionals of the Chamber. This is an opportunity for the entire membership to meet and greet with the members of the Attorneys & Accountants committee\, network and learn some important business tips for the coming year. \nBreakfast is sponsored by Cole Schotz\, P.C. \n$10 to attend. Registration required.
URL:https://www.hackensackchamber.org/event/meet-greet-with-the-attorneys-accountants-group/
LOCATION:Cole Schotz\, P.C.\, 25 Main Street\,\, Hackensack\, NJ\, 07601\, United States
END:VEVENT
BEGIN:VEVENT
DTSTART;TZID=UTC:20200220T090000
DTEND;TZID=UTC:20200220T100000
DTSTAMP:20260423T022320
CREATED:20191211T021640Z
LAST-MODIFIED:20191211T021701Z
UID:4515-1582189200-1582192800@www.hackensackchamber.org
SUMMARY:Board of Directors Meeting
DESCRIPTION:The Board of Directors meets on the third Thursday of the month at 9 a.m. at the Ciarco Learning Center\, 355 Main St.\, Hackensack. All members are welcome to attend. The Board supervises and controls the direction of the Chamber and promotes its purpose. The directors serve three-year terms\, not to exceed 12 years. Directors are expected to be actively involved in the Chamber\, including regular attendance at scheduled meetings\, participation in committees and participation in Chamber events and functions. \nAll Chamber members are welcome to attend.
URL:https://www.hackensackchamber.org/event/board-of-directors-meeting/
LOCATION:Ciarco Learning Center\, 355 Main Street\, Hackensack\, NJ\, 07601\, United States
END:VEVENT
BEGIN:VEVENT
DTSTART;TZID=UTC:20200220T083000
DTEND;TZID=UTC:20200220T093000
DTSTAMP:20260423T022320
CREATED:20191212T215548Z
LAST-MODIFIED:20200219T004954Z
UID:4872-1582187400-1582191000@www.hackensackchamber.org
SUMMARY:Lawyers and Accountants Committee
DESCRIPTION:The Lawyers and Accountants committee meets once per month to network and go over industry related topics.  he main goal of the group is to better understand the subtle nuances of each member’s business in order to encourage referrals and introductions.  From time to time the group will present case studies and host educational events for the main chamber members.  The Committee Chair is Joe Saccomanno from AXA Financial Advisors\, LLC. \n 
URL:https://www.hackensackchamber.org/event/lawyers-and-accountants-committee-2/
LOCATION:AXA Financial Advisors\, 250 Pehle Ave\, Saddle Brook\, NJ\, 07663
END:VEVENT
BEGIN:VEVENT
DTSTART;TZID=UTC:20200219T093000
DTEND;TZID=UTC:20200219T103000
DTSTAMP:20260423T022320
CREATED:20191211T024709Z
LAST-MODIFIED:20200129T001855Z
UID:4594-1582104600-1582108200@www.hackensackchamber.org
SUMMARY:Women's Networking
DESCRIPTION:Thank you to the YWCA for hosting this month’s networking. \nEvent Location: YWCA Northern New Jersey- 214 State St.\, Hackensack. Our meeting will be held in our conference room on the first floor\, room# 103 \nCoffee will be provided. \nParking: Some spots in the lot and more across the street. \nThe goal of the women’s networking group is for professional women to create an atmosphere where they are comfortable speaking about challenges in their work life. Ultimately\, the relationships built will help grow their businesses. Each session has a topic fr the group to discuss. The women’s networking group meets for an hour\, but attendees are encouraged to stay and chat. The group meets on the third Wednesday of the month. There is no charge to attend\, but Chamber membership is encouraged. To host one of the meetings please call the Chamber office.
URL:https://www.hackensackchamber.org/event/womens-networking-3/
LOCATION:YWCA\, 214 State Street\, Hackensack\, NJ\, 07601\, United States
END:VEVENT
BEGIN:VEVENT
DTSTART;TZID=UTC:20200212T093000
DTEND;TZID=UTC:20200212T103000
DTSTAMP:20260423T022320
CREATED:20200108T215458Z
LAST-MODIFIED:20200108T215458Z
UID:8520-1581499800-1581503400@www.hackensackchamber.org
SUMMARY:Hispanic Business Committee
DESCRIPTION:The Hispanic Business Committee meets monthly on the 2nd Wednesday of the month at the Chamber office.  The committee is chaired by Wil Chilling of One Eleven Beauty and Aesthetic Studio in Hackensack.  They work together to discuss issues that affect Hispanic businesses to attend committee meetings and events. \nThey planned their first Meet & Greet in May and it was a huge success.  Look for another event in the Fall.  There is no charge to attend the committee meetings\, but membership in the Chamber is encouraged.  Members of the committee are expected to speak Spanish. \n 
URL:https://www.hackensackchamber.org/event/hispanic-business-committee/
END:VEVENT
BEGIN:VEVENT
DTSTART;TZID=UTC:20200211T090000
DTEND;TZID=UTC:20200211T100000
DTSTAMP:20260423T022320
CREATED:20191211T023626Z
LAST-MODIFIED:20191211T023626Z
UID:4565-1581411600-1581415200@www.hackensackchamber.org
SUMMARY:Events Committee
DESCRIPTION:The events committee meets on the 2nd Tuesday of the month at the Chamber office at 9 a.m. The events committee plans the major events during the year including the gala\, beefsteak and scholarship event. This committee also helps to guide smaller events during the year.
URL:https://www.hackensackchamber.org/event/events-committee-2/
LOCATION:Zoom\, 66 Moore Street\, Hackensack\, NJ\, 07601\, United States
END:VEVENT
BEGIN:VEVENT
DTSTART;TZID=America/New_York:20200210T173000
DTEND;TZID=America/New_York:20200210T203000
DTSTAMP:20260423T022320
CREATED:20200124T212121Z
LAST-MODIFIED:20200124T212121Z
UID:11055-1581355800-1581366600@www.hackensackchamber.org
SUMMARY:Ladies Night at Parisian Beauty Academy
DESCRIPTION:Ladies Night at Parisian includes your choice of services and refreshments. The event begins at 5:30 p.m. Services begin at 6 p.m. Time slots will be given on a first come\, first serve basis. \nChoose a Luxe Hair Package or a Skin Spa Package \nLuxe hair packages (max 15): \nRe-Treat: Treat yourself to healthy\, shiny hair and take years off in minutes! Repair damage with our revolutionary KeraTriplex Treatment today. \nMarula: The secret to transform hair. 80% reduced split ends. 80% improved condition of hair. 80% more shine. Our oil is the purest and highest quality possible\, with 50% more protective antioxidants than argan oil. A high concentration of nutrients and oleic acids help hydrate\, repair and moisturize hair at the deepest level. \nAwapuhi Mirror Smooth: 91% smoother hair\, 67% less frizz for up to 24 hours\, 2x more gloss when using the system of Awapuhi Wild Ginger Mirror Smooth Shampoo\, Conditioner and High Gloss Primer as compared to untreated hair. This highly effective blend transforms frizzy\, lackluster locks into soft strands with a mirror smooth finish. \nHair package also include manicure and paraffin treatment. \nSkin Spa Package (max 18): \nDermalogica Facial Treatment\, Skin Analysis\, Paraffin Treatment and Hand Massage \nBoth packages cost $45 \n 
URL:https://www.hackensackchamber.org/event/ladies-night-at-parisian-beauty-academy/
END:VEVENT
BEGIN:VEVENT
DTSTART;TZID=UTC:20200210T090000
DTEND;TZID=UTC:20200210T100000
DTSTAMP:20260423T022320
CREATED:20191211T022642Z
LAST-MODIFIED:20191211T022642Z
UID:4544-1581325200-1581328800@www.hackensackchamber.org
SUMMARY:Membership/Marketing Committee
DESCRIPTION:The marketing/membership committee meets on the 2nd Monday of the month at the Chamber office at 9 a.m. This committee plans the May is Membership Event and the General Membership Event. The committee also helps to welcome new members in person at their place of business. They act as ambassadors to greet attendees at major events throughout the year.
URL:https://www.hackensackchamber.org/event/membership-marketing-committee/
LOCATION:Zoom\, 66 Moore Street\, Hackensack\, NJ\, 07601\, United States
END:VEVENT
BEGIN:VEVENT
DTSTART;TZID=UTC:20200128T080000
DTEND;TZID=UTC:20200128T100000
DTSTAMP:20260423T022320
CREATED:20191211T024349Z
LAST-MODIFIED:20191211T024349Z
UID:4586-1580198400-1580205600@www.hackensackchamber.org
SUMMARY:Welcome 2019 New Members
DESCRIPTION:Charlotte Sodora\, president\, would like to welcome all new members to an early morning meet and greet. \nLearn how to maximize Chamber benefits. \nGet to know your Chamber board and staff. \nHear about upcoming events and networking opportunities. \nJoin one of the Chamber’s committees. \nNo charge for those who joined in 2019 – must register through the Chamber office at 201-489-3700 or email info@hackensackchamber.org \nAll others $15.
URL:https://www.hackensackchamber.org/event/welcome-2019-new-members/
LOCATION:Clemente Bakery\, 120 Leuning St. South Hackensack\, Hackensack\, NJ\, 07601\, United States
END:VEVENT
BEGIN:VEVENT
DTSTART;TZID=UTC:20200116T090000
DTEND;TZID=UTC:20200116T100000
DTSTAMP:20260423T022320
CREATED:20191211T021546Z
LAST-MODIFIED:20191211T022321Z
UID:4512-1579165200-1579168800@www.hackensackchamber.org
SUMMARY:Board of Directors Meeting
DESCRIPTION:The Board of Directors meets on the third Thursday of the month at 9 a.m. at the Ciarco Learning Center\, 355 Main St.\, Hackensack. All members are welcome to attend. The Board supervises and controls the direction of the Chamber and promotes its purpose. The directors serve three-year terms\, not to exceed 12 years. Directors are expected to be actively involved in the Chamber\, including regular attendance at scheduled meetings\, participation in committees and participation in Chamber events and functions. \nAll Chamber members are welcome to attend.
URL:https://www.hackensackchamber.org/event/board-of-directors/
LOCATION:Ciarco Learning Center\, 355 Main Street\, Hackensack\, NJ\, 07601\, United States
END:VEVENT
BEGIN:VEVENT
DTSTART;TZID=UTC:20200115T093000
DTEND;TZID=UTC:20200115T103000
DTSTAMP:20260423T022320
CREATED:20191211T024630Z
LAST-MODIFIED:20191211T024630Z
UID:4591-1579080600-1579084200@www.hackensackchamber.org
SUMMARY:Women's Networking
DESCRIPTION:The goal of the women’s networking group is for professional women to create an atmosphere where they are comfortable speaking about challenges in their work life. Ultimately\, the relationships built will help grow their businesses. Each session has a topic fr the group to discuss. The women’s networking group meets for an hour\, but attendees are encouraged to stay and chat. The group meets on the third Wednesday of the month. There is no charge to attend\, but Chamber membership is encouraged. To host one of the meetings please call the Chamber office.
URL:https://www.hackensackchamber.org/event/womens-networking/
LOCATION:Zoom\, 66 Moore Street\, Hackensack\, NJ\, 07601\, United States
END:VEVENT
BEGIN:VEVENT
DTSTART;TZID=UTC:20200114T090000
DTEND;TZID=UTC:20200114T100000
DTSTAMP:20260423T022320
CREATED:20191211T023504Z
LAST-MODIFIED:20191211T023504Z
UID:4562-1578992400-1578996000@www.hackensackchamber.org
SUMMARY:Events Committee
DESCRIPTION:The events committee meets on the 2nd Tuesday of the month at the Chamber office at 9 a.m. The events committee plans the major events during the year including the gala\, beefsteak and scholarship event. This committee also helps to guide smaller events during the year.
URL:https://www.hackensackchamber.org/event/events-committee/
LOCATION:Zoom\, 66 Moore Street\, Hackensack\, NJ\, 07601\, United States
END:VEVENT
BEGIN:VEVENT
DTSTART;TZID=UTC:20200113T090000
DTEND;TZID=UTC:20200113T100000
DTSTAMP:20260423T022320
CREATED:20191211T022538Z
LAST-MODIFIED:20191211T022538Z
UID:4539-1578906000-1578909600@www.hackensackchamber.org
SUMMARY:Marketing/Membership Committee
DESCRIPTION:The marketing/membership committee meets on the 2nd Monday of the month at the Chamber office at 9 a.m. This committee plans the May is Membership Event and the General Membership Event. The committee also helps to welcome new members in person at their place of business. They act as ambassadors to greet attendees at major events throughout the year.
URL:https://www.hackensackchamber.org/event/marketing-membership-committee/
LOCATION:Zoom\, 66 Moore Street\, Hackensack\, NJ\, 07601\, United States
END:VEVENT
BEGIN:VEVENT
DTSTART;TZID=UTC:20200109T083000
DTEND;TZID=UTC:20200109T093000
DTSTAMP:20260423T022320
CREATED:20191212T215240Z
LAST-MODIFIED:20191212T215240Z
UID:4867-1578558600-1578562200@www.hackensackchamber.org
SUMMARY:Lawyers and Accountants Committee
DESCRIPTION:The Lawyers and Accountants committee meets once per month to network and go over industry related topics.  he main goal of the group is to better understand the subtle nuances of each member’s business in order to encourage referrals and introductions.  From time to time the group will present case studies and host educational events for the main chamber members.  The Committee Chair is Joe Saccomanno from AXA Financial Advisors\, LLC. \n 
URL:https://www.hackensackchamber.org/event/lawyers-and-accountants-committee/
LOCATION:AXA Financial Advisors\, 250 Pehle Ave\, Saddle Brook\, NJ\, 07663
END:VEVENT
BEGIN:VEVENT
DTSTART;TZID=UTC:20191218T093000
DTEND;TZID=UTC:20191218T103000
DTSTAMP:20260423T022320
CREATED:20191109T065421Z
LAST-MODIFIED:20191213T212100Z
UID:2013-1576661400-1576665000@www.hackensackchamber.org
SUMMARY:Women's Networking
DESCRIPTION:The goal of this group is to create an atmosphere for professional women where they are comfortable speaking about the challenges in their work life. Ultimately\, the relationships built will help to grow their businesses through new contacts and relationships. Each session has a topic for the group to discuss. The women’s networking group meets for an hour\, but attendees are encouraged to stay and chat. The group meets monthly on the third Wednesday of the month. The is no charge to attend this group\, but membership in the Chamber is encouraged. To host one of the meetings please call the Chamber office.
URL:https://www.hackensackchamber.org/event/womens-networking-2/
ATTACH;FMTTYPE=image/jpeg:https://www.hackensackchamber.org/wp-content/uploads/2019/11/womens-networking.jpg
END:VEVENT
BEGIN:VEVENT
DTSTART;TZID=UTC:20191211T093000
DTEND;TZID=UTC:20191211T103000
DTSTAMP:20260423T022320
CREATED:20191109T064448Z
LAST-MODIFIED:20191210T223831Z
UID:2007-1576056600-1576060200@www.hackensackchamber.org
SUMMARY:Hispanic Committee Meeting
DESCRIPTION:The Hispanic Business Committee meets monthly on the 2nd Wednesday of the month at the Chamber office. The committee is chaired by Will Chilin of OneEleven Beauty & Aesthetic Studio in Hackensack. The committee discuss issues that affect Hispanic businesses as well as business in general.
URL:https://www.hackensackchamber.org/event/hispanic-committee-meeting/
ATTACH;FMTTYPE=image/jpeg:https://www.hackensackchamber.org/wp-content/uploads/2019/11/hispanic-comitee-meeting.jpg
END:VEVENT
BEGIN:VEVENT
DTSTART;TZID=UTC:20191210T173000
DTEND;TZID=UTC:20191210T193000
DTSTAMP:20260423T022320
CREATED:20191109T061942Z
LAST-MODIFIED:20191207T151112Z
UID:1997-1575999000-1576006200@www.hackensackchamber.org
SUMMARY:VIP Networking
DESCRIPTION:Meet other executives in an upscale environment. Passed Hors d’ouerves from Picco’s exclusive menu. Cash bar.
URL:https://www.hackensackchamber.org/event/vip-networking/
LOCATION:Picco Tavern\, 160 Prospect Avenue\, Hackensack\, NJ\, 07601\, United States
ATTACH;FMTTYPE=image/jpeg:https://www.hackensackchamber.org/wp-content/uploads/2019/11/vip-networking.jpg
END:VEVENT
END:VCALENDAR