BEGIN:VCALENDAR
VERSION:2.0
PRODID:-//Hackensack Regional Chamber of Commerce - ECPv6.15.17.1//NONSGML v1.0//EN
CALSCALE:GREGORIAN
METHOD:PUBLISH
X-WR-CALNAME:Hackensack Regional Chamber of Commerce
X-ORIGINAL-URL:https://www.hackensackchamber.org
X-WR-CALDESC:Events for Hackensack Regional Chamber of Commerce
REFRESH-INTERVAL;VALUE=DURATION:PT1H
X-Robots-Tag:noindex
X-PUBLISHED-TTL:PT1H
BEGIN:VTIMEZONE
TZID:UTC
BEGIN:STANDARD
TZOFFSETFROM:+0000
TZOFFSETTO:+0000
TZNAME:UTC
DTSTART:20180101T000000
END:STANDARD
END:VTIMEZONE
BEGIN:VEVENT
DTSTART;TZID=UTC:20191211T093000
DTEND;TZID=UTC:20191211T103000
DTSTAMP:20260425T123135
CREATED:20191109T064448Z
LAST-MODIFIED:20191210T223831Z
UID:2007-1576056600-1576060200@www.hackensackchamber.org
SUMMARY:Hispanic Committee Meeting
DESCRIPTION:The Hispanic Business Committee meets monthly on the 2nd Wednesday of the month at the Chamber office. The committee is chaired by Will Chilin of OneEleven Beauty & Aesthetic Studio in Hackensack. The committee discuss issues that affect Hispanic businesses as well as business in general.
URL:https://www.hackensackchamber.org/event/hispanic-committee-meeting/
ATTACH;FMTTYPE=image/jpeg:https://www.hackensackchamber.org/wp-content/uploads/2019/11/hispanic-comitee-meeting.jpg
END:VEVENT
BEGIN:VEVENT
DTSTART;TZID=UTC:20191210T173000
DTEND;TZID=UTC:20191210T193000
DTSTAMP:20260425T123135
CREATED:20191109T061942Z
LAST-MODIFIED:20191207T151112Z
UID:1997-1575999000-1576006200@www.hackensackchamber.org
SUMMARY:VIP Networking
DESCRIPTION:Meet other executives in an upscale environment. Passed Hors d’ouerves from Picco’s exclusive menu. Cash bar.
URL:https://www.hackensackchamber.org/event/vip-networking/
LOCATION:Picco Tavern\, 160 Prospect Avenue\, Hackensack\, NJ\, 07601\, United States
ATTACH;FMTTYPE=image/jpeg:https://www.hackensackchamber.org/wp-content/uploads/2019/11/vip-networking.jpg
END:VEVENT
BEGIN:VEVENT
DTSTART;TZID=UTC:20191210T090000
DTEND;TZID=UTC:20191210T100000
DTSTAMP:20260425T123135
CREATED:20191211T024013Z
LAST-MODIFIED:20191211T024013Z
UID:4580-1575968400-1575972000@www.hackensackchamber.org
SUMMARY:Events Committee
DESCRIPTION:The events committee meets on the 2nd Tuesday of the month at the Chamber office at 9 a.m. The events committee plans the major events during the year including the gala\, beefsteak and scholarship event. This committee also helps to guide smaller events during the year.
URL:https://www.hackensackchamber.org/event/events-committee-7/
LOCATION:Zoom\, 66 Moore Street\, Hackensack\, NJ\, 07601\, United States
END:VEVENT
BEGIN:VEVENT
DTSTART;TZID=UTC:20191203T080000
DTEND;TZID=UTC:20191203T100000
DTSTAMP:20260425T123135
CREATED:20191109T060816Z
LAST-MODIFIED:20191207T151212Z
UID:1972-1575360000-1575367200@www.hackensackchamber.org
SUMMARY:Strategies and Tips for Getting the Most Out of EMarketing
DESCRIPTION:How do you build online relationships to get more clients? \nDo you know the difference between social media marketing and search engine optimization (SEO)? \nWe have a panel of experts to answer those questions and more as part of the Chamber Tech Education Series.
URL:https://www.hackensackchamber.org/event/strategies-and-tips-for-getting-the-most-our-of-emarketing/
LOCATION:Ciarco Learning Center\, 355 Main Street\, Hackensack\, NJ\, 07601\, United States
ATTACH;FMTTYPE=image/jpeg:https://www.hackensackchamber.org/wp-content/uploads/2019/11/seo-event.jpg
END:VEVENT
BEGIN:VEVENT
DTSTART;TZID=UTC:20190528T083000
DTEND;TZID=UTC:20190528T093000
DTSTAMP:20260425T123135
CREATED:20191212T220603Z
LAST-MODIFIED:20191212T220603Z
UID:4883-1559032200-1559035800@www.hackensackchamber.org
SUMMARY:Lawyers and Accountants Committee
DESCRIPTION:The Lawyers and Accountants committee meets once per month to network and go over industry related topics.  he main goal of the group is to better understand the subtle nuances of each member’s business in order to encourage referrals and introductions.  From time to time the group will present case studies and host educational events for the main chamber members.  The Committee Chair is Joe Saccomanno from AXA Financial Advisors\, LLC.
URL:https://www.hackensackchamber.org/event/lawyers-and-accountants-committee-5/
LOCATION:AXA Financial Advisors\, 250 Pehle Ave\, Saddle Brook\, NJ\, 07663
END:VEVENT
BEGIN:VEVENT
DTSTART;TZID=UTC:20190520T093000
DTEND;TZID=UTC:20190520T103000
DTSTAMP:20260425T123135
CREATED:20191211T024915Z
LAST-MODIFIED:20191211T024934Z
UID:4604-1558344600-1558348200@www.hackensackchamber.org
SUMMARY:Women's Networking
DESCRIPTION:The goal of the women’s networking group is for professional women to create an atmosphere where they are comfortable speaking about challenges in their work life. Ultimately\, the relationships built will help grow their businesses. Each session has a topic fr the group to discuss. The women’s networking group meets for an hour\, but attendees are encouraged to stay and chat. The group meets on the third Wednesday of the month. There is no charge to attend\, but Chamber membership is encouraged. To host one of the meetings please call the Chamber office.
URL:https://www.hackensackchamber.org/event/womens-networking-6/
LOCATION:Zoom\, 66 Moore Street\, Hackensack\, NJ\, 07601\, United States
END:VEVENT
END:VCALENDAR