BEGIN:VCALENDAR
VERSION:2.0
PRODID:-//Hackensack Regional Chamber of Commerce - ECPv6.15.17.1//NONSGML v1.0//EN
CALSCALE:GREGORIAN
METHOD:PUBLISH
X-WR-CALNAME:Hackensack Regional Chamber of Commerce
X-ORIGINAL-URL:https://www.hackensackchamber.org
X-WR-CALDESC:Events for Hackensack Regional Chamber of Commerce
REFRESH-INTERVAL;VALUE=DURATION:PT1H
X-Robots-Tag:noindex
X-PUBLISHED-TTL:PT1H
BEGIN:VTIMEZONE
TZID:America/New_York
BEGIN:DAYLIGHT
TZOFFSETFROM:-0500
TZOFFSETTO:-0400
TZNAME:EDT
DTSTART:20250309T070000
END:DAYLIGHT
BEGIN:STANDARD
TZOFFSETFROM:-0400
TZOFFSETTO:-0500
TZNAME:EST
DTSTART:20251102T060000
END:STANDARD
BEGIN:DAYLIGHT
TZOFFSETFROM:-0500
TZOFFSETTO:-0400
TZNAME:EDT
DTSTART:20260308T070000
END:DAYLIGHT
BEGIN:STANDARD
TZOFFSETFROM:-0400
TZOFFSETTO:-0500
TZNAME:EST
DTSTART:20261101T060000
END:STANDARD
BEGIN:DAYLIGHT
TZOFFSETFROM:-0500
TZOFFSETTO:-0400
TZNAME:EDT
DTSTART:20270314T070000
END:DAYLIGHT
BEGIN:STANDARD
TZOFFSETFROM:-0400
TZOFFSETTO:-0500
TZNAME:EST
DTSTART:20271107T060000
END:STANDARD
END:VTIMEZONE
BEGIN:VEVENT
DTSTART;TZID=America/New_York:20260423T093000
DTEND;TZID=America/New_York:20260423T110000
DTSTAMP:20260423T021437
CREATED:20260324T165259Z
LAST-MODIFIED:20260324T165259Z
UID:139504-1776936600-1776942000@www.hackensackchamber.org
SUMMARY:Women's Networking (4/23/26)
DESCRIPTION:Connect. Collaborate. Grow. \n \nWe’re excited to once again team up with the Fort Lee Chamber for our monthly Women’s Networking — a vibrant hour\, or so\, of authentic connection\, professional support\, and meaningful conversations. \nThis monthly gathering is a space where professional women can share challenges\, exchange ideas\, and strengthen the relationships that help drive personal and business growth. Whether you’re expanding your circle or reconnecting with familiar faces\, this is your chance to build meaningful connections that last well beyond the event. \nCome for the networking. Stay for the connections. \nhosted by:Saddle Brook Marriott138 New Pehle Ave \nAlways FREE for MembersFuture Members\, $25 \nThinking of joining? If you become a member within one week of the event\, we’ll apply double your registration fee ($50) toward your first-year dues! \n \nTickets \n\nMember Ticket\nNon Member Ticket
URL:https://www.hackensackchamber.org/event/womens-networking-24/
CATEGORIES:Networking Event
END:VEVENT
END:VCALENDAR