BEGIN:VCALENDAR
VERSION:2.0
PRODID:-//Hackensack Regional Chamber of Commerce - ECPv6.15.17.1//NONSGML v1.0//EN
CALSCALE:GREGORIAN
METHOD:PUBLISH
X-WR-CALNAME:Hackensack Regional Chamber of Commerce
X-ORIGINAL-URL:https://www.hackensackchamber.org
X-WR-CALDESC:Events for Hackensack Regional Chamber of Commerce
REFRESH-INTERVAL;VALUE=DURATION:PT1H
X-Robots-Tag:noindex
X-PUBLISHED-TTL:PT1H
BEGIN:VTIMEZONE
TZID:America/New_York
BEGIN:DAYLIGHT
TZOFFSETFROM:-0500
TZOFFSETTO:-0400
TZNAME:EDT
DTSTART:20250309T070000
END:DAYLIGHT
BEGIN:STANDARD
TZOFFSETFROM:-0400
TZOFFSETTO:-0500
TZNAME:EST
DTSTART:20251102T060000
END:STANDARD
BEGIN:DAYLIGHT
TZOFFSETFROM:-0500
TZOFFSETTO:-0400
TZNAME:EDT
DTSTART:20260308T070000
END:DAYLIGHT
BEGIN:STANDARD
TZOFFSETFROM:-0400
TZOFFSETTO:-0500
TZNAME:EST
DTSTART:20261101T060000
END:STANDARD
BEGIN:DAYLIGHT
TZOFFSETFROM:-0500
TZOFFSETTO:-0400
TZNAME:EDT
DTSTART:20270314T070000
END:DAYLIGHT
BEGIN:STANDARD
TZOFFSETFROM:-0400
TZOFFSETTO:-0500
TZNAME:EST
DTSTART:20271107T060000
END:STANDARD
END:VTIMEZONE
BEGIN:VEVENT
DTSTART;TZID=America/New_York:20260422T160000
DTEND;TZID=America/New_York:20260422T170000
DTSTAMP:20260422T022829
CREATED:20260403T195710Z
LAST-MODIFIED:20260403T195710Z
UID:140261-1776873600-1776877200@www.hackensackchamber.org
SUMMARY:New Member Ribbon Cutting - Serenium (4/22/26)
DESCRIPTION:Join us – and the Mayor\, members of the City Council and our Board of Directors – as we welcome this exciting new business to the community with a Ribbon Cutting. \n \nSerenium\n2 University Plaza\nSuite 301\nHackensack\n \nSerenium™ is a brand focused on therapy and wellness where serenity and calmness meets balance and equilibrium. A place where Mind\, Body\, Soul\, and Emotion flow as one\, into a lasting effect to feel whole and complete. \n\nFind out more at: \n4:00pm on Wednesday\, April 22 \nOpen to the community\, pre-registration requested. \nThank you. \n \nRegistration: Free \nTickets \n\nMember Ticket\nNon Member Ticket
URL:https://www.hackensackchamber.org/event/new-member-ribbon-cutting-serenium-4-22-26/
CATEGORIES:Networking Event
END:VEVENT
END:VCALENDAR