BEGIN:VCALENDAR
VERSION:2.0
PRODID:-//Hackensack Regional Chamber of Commerce - ECPv6.15.17.1//NONSGML v1.0//EN
CALSCALE:GREGORIAN
METHOD:PUBLISH
X-ORIGINAL-URL:https://www.hackensackchamber.org
X-WR-CALDESC:Events for Hackensack Regional Chamber of Commerce
REFRESH-INTERVAL;VALUE=DURATION:PT1H
X-Robots-Tag:noindex
X-PUBLISHED-TTL:PT1H
BEGIN:VTIMEZONE
TZID:UTC
BEGIN:STANDARD
TZOFFSETFROM:+0000
TZOFFSETTO:+0000
TZNAME:UTC
DTSTART:20210101T000000
END:STANDARD
END:VTIMEZONE
BEGIN:VEVENT
DTSTART;TZID=UTC:20220225T100000
DTEND;TZID=UTC:20220225T113000
DTSTAMP:20260421T090254
CREATED:20211224T215026Z
LAST-MODIFIED:20220110T215429Z
UID:122031-1645783200-1645788600@www.hackensackchamber.org
SUMMARY:Plastic Bag Ban Virtual Presentation
DESCRIPTION:NJ Plastic Bag Ban Presenters are as follows: \n\nMelanie Willoughby\, NJBAC Executive Director\, New Jersey Business Action Center\nErica Lockhart\, NJBAC Communications Specialist/Proj. Mgr.\, New Jersey Business Action Center\nJoAnn Gemenden\, NJCCC Executive Director\, New Jersey Clean Communities Council\nErin Jensen\, NJDEP Environmental Specialist\, New Jersey Department of Environmental Protection
URL:https://www.hackensackchamber.org/event/plastic-bag-ban-virtual-presentation/
END:VEVENT
END:VCALENDAR