BEGIN:VCALENDAR
VERSION:2.0
PRODID:-//Hackensack Regional Chamber of Commerce - ECPv6.15.17.1//NONSGML v1.0//EN
CALSCALE:GREGORIAN
METHOD:PUBLISH
X-ORIGINAL-URL:https://www.hackensackchamber.org
X-WR-CALDESC:Events for Hackensack Regional Chamber of Commerce
REFRESH-INTERVAL;VALUE=DURATION:PT1H
X-Robots-Tag:noindex
X-PUBLISHED-TTL:PT1H
BEGIN:VTIMEZONE
TZID:UTC
BEGIN:STANDARD
TZOFFSETFROM:+0000
TZOFFSETTO:+0000
TZNAME:UTC
DTSTART:20210101T000000
END:STANDARD
END:VTIMEZONE
BEGIN:VEVENT
DTSTART;TZID=UTC:20220224T090000
DTEND;TZID=UTC:20220224T103000
DTSTAMP:20260421T090254
CREATED:20220126T213918Z
LAST-MODIFIED:20220215T005119Z
UID:122463-1645693200-1645698600@www.hackensackchamber.org
SUMMARY:Lawyers and Accountants Committee
DESCRIPTION:All lawyers and accountants are welcome to attend this morning networking remotely. Free to members. \nLink to attend will be sent once registered.
URL:https://www.hackensackchamber.org/event/lawyers-and-accounting-committee/
LOCATION:Chamber Office\, 66 Moore Street\, Hackensack\, NJ\, 07601
END:VEVENT
END:VCALENDAR