BEGIN:VCALENDAR
VERSION:2.0
PRODID:-//Hackensack Regional Chamber of Commerce - ECPv6.15.17.1//NONSGML v1.0//EN
CALSCALE:GREGORIAN
METHOD:PUBLISH
X-WR-CALNAME:Hackensack Regional Chamber of Commerce
X-ORIGINAL-URL:https://www.hackensackchamber.org
X-WR-CALDESC:Events for Hackensack Regional Chamber of Commerce
REFRESH-INTERVAL;VALUE=DURATION:PT1H
X-Robots-Tag:noindex
X-PUBLISHED-TTL:PT1H
BEGIN:VTIMEZONE
TZID:UTC
BEGIN:STANDARD
TZOFFSETFROM:+0000
TZOFFSETTO:+0000
TZNAME:UTC
DTSTART:20210101T000000
END:STANDARD
END:VTIMEZONE
BEGIN:VEVENT
DTSTART;TZID=UTC:20220223T100000
DTEND;TZID=UTC:20220223T110000
DTSTAMP:20260421T085650
CREATED:20220128T222744Z
LAST-MODIFIED:20220128T222805Z
UID:122522-1645610400-1645614000@www.hackensackchamber.org
SUMMARY:Hispanic Committee
DESCRIPTION:The Hispanic Business Committee meets monthly to work together and discuss issues that affect Hispanic businesses as well as businesses in general. They also canvas the Chamber’s area to invite new businesses to attend committee meetings and events. No charge to attend but membership is encouraged. \n  \nJoin Zoom Meeting\nhttps://us02web.zoom.us/j/83572718352?pwd=d3pBNFNLNTA5NnU1YmNGNXE5azRpZz09
URL:https://www.hackensackchamber.org/event/hispanic-committee-3/
END:VEVENT
END:VCALENDAR