BEGIN:VCALENDAR
VERSION:2.0
PRODID:-//Hackensack Regional Chamber of Commerce - ECPv6.15.17.1//NONSGML v1.0//EN
CALSCALE:GREGORIAN
METHOD:PUBLISH
X-ORIGINAL-URL:https://www.hackensackchamber.org
X-WR-CALDESC:Events for Hackensack Regional Chamber of Commerce
REFRESH-INTERVAL;VALUE=DURATION:PT1H
X-Robots-Tag:noindex
X-PUBLISHED-TTL:PT1H
BEGIN:VTIMEZONE
TZID:UTC
BEGIN:STANDARD
TZOFFSETFROM:+0000
TZOFFSETTO:+0000
TZNAME:UTC
DTSTART:20210101T000000
END:STANDARD
END:VTIMEZONE
BEGIN:VEVENT
DTSTART;TZID=UTC:20220216T093000
DTEND;TZID=UTC:20220216T103000
DTSTAMP:20260421T090142
CREATED:20211208T210037Z
LAST-MODIFIED:20220119T234223Z
UID:121760-1645003800-1645007400@www.hackensackchamber.org
SUMMARY:Women's Networking at Raymour & Flanigan
DESCRIPTION:Join Angela Hylton of Raymour and Flanigan for women’s networking breakfast. \nTopic: Sleep and the impact on women’s health. \nKristen Johnson from Sterns and Foster and Sealy will discuss the benefits of quality sleep. \n  \nThe goal of the women’s group is for professional women to create an atmosphere where they are comfortable speaking about challenges in their work life. Ultimately\, the relationships built will help to grow their businesses. \nThe group meets for an hour\, but attendees are encouraged to stay and chat. There is no charge to attend this group\, but membership in the Chamber is encouraged.
URL:https://www.hackensackchamber.org/event/womens-networking-at-raymour-flanigan/
LOCATION:Raymour & Flanigan\, 200 Route 17 North\, Paramus\, NJ\, 07652
END:VEVENT
END:VCALENDAR