BEGIN:VCALENDAR
VERSION:2.0
PRODID:-//Hackensack Regional Chamber of Commerce - ECPv6.15.17.1//NONSGML v1.0//EN
CALSCALE:GREGORIAN
METHOD:PUBLISH
X-WR-CALNAME:Hackensack Regional Chamber of Commerce
X-ORIGINAL-URL:https://www.hackensackchamber.org
X-WR-CALDESC:Events for Hackensack Regional Chamber of Commerce
REFRESH-INTERVAL;VALUE=DURATION:PT1H
X-Robots-Tag:noindex
X-PUBLISHED-TTL:PT1H
BEGIN:VTIMEZONE
TZID:UTC
BEGIN:STANDARD
TZOFFSETFROM:+0000
TZOFFSETTO:+0000
TZNAME:UTC
DTSTART:20210101T000000
END:STANDARD
END:VTIMEZONE
BEGIN:VEVENT
DTSTART;TZID=UTC:20220202T090000
DTEND;TZID=UTC:20220202T100000
DTSTAMP:20260421T105132
CREATED:20220128T222551Z
LAST-MODIFIED:20220128T222551Z
UID:122519-1643792400-1643796000@www.hackensackchamber.org
SUMMARY:Veterans Networking Group
DESCRIPTION:The Veteran’s Networking Group is made up of veterans who own a business or are currently working. The group holds networking events throughout the year and supports veterans’ events in the surrounding area. Community service is a priority for the Veteran’s Networking Group. The members choose a project to focus on during the year and try to get the general membership involved as well. \nThe meetings are currently held via zoom. \nhttps://us02web.zoom.us/j/89238364252?pwd=LzV5ME9LeGJKTEx6aTNqL3kwaUdjdz09
URL:https://www.hackensackchamber.org/event/veterans-networking-group-7/
END:VEVENT
BEGIN:VEVENT
DTSTART;TZID=UTC:20220202T173000
DTEND;TZID=UTC:20220202T193000
DTSTAMP:20260421T105132
CREATED:20211117T021321Z
LAST-MODIFIED:20211216T194331Z
UID:121620-1643823000-1643830200@www.hackensackchamber.org
SUMMARY:Developing Your Memory Power
DESCRIPTION:
URL:https://www.hackensackchamber.org/event/developing-your-memory-power/
LOCATION:Alexander Anderson\, 66 Moore Street\, Hackensack\, NJ\, 07601
END:VEVENT
END:VCALENDAR