BEGIN:VCALENDAR
VERSION:2.0
PRODID:-//Hackensack Regional Chamber of Commerce - ECPv6.15.17.1//NONSGML v1.0//EN
CALSCALE:GREGORIAN
METHOD:PUBLISH
X-ORIGINAL-URL:https://www.hackensackchamber.org
X-WR-CALDESC:Events for Hackensack Regional Chamber of Commerce
REFRESH-INTERVAL;VALUE=DURATION:PT1H
X-Robots-Tag:noindex
X-PUBLISHED-TTL:PT1H
BEGIN:VTIMEZONE
TZID:UTC
BEGIN:STANDARD
TZOFFSETFROM:+0000
TZOFFSETTO:+0000
TZNAME:UTC
DTSTART:20200101T000000
END:STANDARD
END:VTIMEZONE
BEGIN:VEVENT
DTSTART;TZID=UTC:20211209T080000
DTEND;TZID=UTC:20211209T170000
DTSTAMP:20260421T123104
CREATED:20211209T203454Z
LAST-MODIFIED:20211209T203518Z
UID:121820-1639036800-1639069200@www.hackensackchamber.org
SUMMARY:Veterans Networking Group
DESCRIPTION:The Veterans’ Networking Group is made up of Veterans who own a business or are currently working. The group holds networking evens throughout the year and supports veterans events in the surrounding area. Community services is a priority for this group. \nCurrently meetings are held via zoom and are free to members. \nJoin Zoom Meeting\nhttps://us02web.zoom.us/j/86844640833?pwd=aDlxQXFONG54TmttK2g1SkdEWFJTZz09
URL:https://www.hackensackchamber.org/event/veterans-networking-group-5/
END:VEVENT
END:VCALENDAR