BEGIN:VCALENDAR
VERSION:2.0
PRODID:-//Hackensack Regional Chamber of Commerce - ECPv6.15.17.1//NONSGML v1.0//EN
CALSCALE:GREGORIAN
METHOD:PUBLISH
X-ORIGINAL-URL:https://www.hackensackchamber.org
X-WR-CALDESC:Events for Hackensack Regional Chamber of Commerce
REFRESH-INTERVAL;VALUE=DURATION:PT1H
X-Robots-Tag:noindex
X-PUBLISHED-TTL:PT1H
BEGIN:VTIMEZONE
TZID:UTC
BEGIN:STANDARD
TZOFFSETFROM:+0000
TZOFFSETTO:+0000
TZNAME:UTC
DTSTART:20200101T000000
END:STANDARD
END:VTIMEZONE
BEGIN:VEVENT
DTSTART;TZID=UTC:20211203T100000
DTEND;TZID=UTC:20211203T110000
DTSTAMP:20260421T122917
CREATED:20211007T001901Z
LAST-MODIFIED:20211007T001901Z
UID:120994-1638525600-1638529200@www.hackensackchamber.org
SUMMARY:Non Profit Committee
DESCRIPTION:The Non Profit Committee meets quarterly to discuss industry trends and challenges. All meetings are being held via zoom until further notice. \nTopic: Non Profit Committee\nTime: Dec 3\, 2021 10:00 AM Eastern Time (US and Canada) \nJoin Zoom Meeting\nhttps://us02web.zoom.us/j/83048445083?pwd=dkxINzhvRjJ1aTZqL216QnBYbytXQT09 \nMeeting ID: 830 4844 5083\nPasscode: 457479\nOne tap mobile\n+13126266799\,\,83048445083#\,\,\,\,*457479# US (Chicago)\n+19292056099\,\,83048445083#\,\,\,\,*457479# US (New York) \nDial by your location\n+1 312 626 6799 US (Chicago)\n+1 929 205 6099 US (New York)\n+1 301 715 8592 US (Washington DC)\n+1 346 248 7799 US (Houston)\n+1 669 900 6833 US (San Jose)\n+1 253 215 8782 US (Tacoma)\nMeeting ID: 830 4844 5083\nPasscode: 457479\nFind your local number: https://us02web.zoom.us/u/kdY9pvkzjg \n 
URL:https://www.hackensackchamber.org/event/non-profit-committee-5/
END:VEVENT
END:VCALENDAR