BEGIN:VCALENDAR
VERSION:2.0
PRODID:-//Hackensack Regional Chamber of Commerce - ECPv6.15.17.1//NONSGML v1.0//EN
CALSCALE:GREGORIAN
METHOD:PUBLISH
X-WR-CALNAME:Hackensack Regional Chamber of Commerce
X-ORIGINAL-URL:https://www.hackensackchamber.org
X-WR-CALDESC:Events for Hackensack Regional Chamber of Commerce
REFRESH-INTERVAL;VALUE=DURATION:PT1H
X-Robots-Tag:noindex
X-PUBLISHED-TTL:PT1H
BEGIN:VTIMEZONE
TZID:UTC
BEGIN:STANDARD
TZOFFSETFROM:+0000
TZOFFSETTO:+0000
TZNAME:UTC
DTSTART:20200101T000000
END:STANDARD
END:VTIMEZONE
BEGIN:VEVENT
DTSTART;TZID=UTC:20211117T093000
DTEND;TZID=UTC:20211117T103000
DTSTAMP:20260421T140943
CREATED:20210928T185859Z
LAST-MODIFIED:20210928T185859Z
UID:120910-1637141400-1637145000@www.hackensackchamber.org
SUMMARY:Women's Networking Sponsored by Blue Dog Graphics
DESCRIPTION:Registration Required. \nHRCC Offices \n66 Moore Street\, Suite 301 \nHackensack
URL:https://www.hackensackchamber.org/event/womens-networking-sponsored-by-blue-dog-graphics/
END:VEVENT
END:VCALENDAR