BEGIN:VCALENDAR
VERSION:2.0
PRODID:-//Hackensack Regional Chamber of Commerce - ECPv6.15.17.1//NONSGML v1.0//EN
CALSCALE:GREGORIAN
METHOD:PUBLISH
X-ORIGINAL-URL:https://www.hackensackchamber.org
X-WR-CALDESC:Events for Hackensack Regional Chamber of Commerce
REFRESH-INTERVAL;VALUE=DURATION:PT1H
X-Robots-Tag:noindex
X-PUBLISHED-TTL:PT1H
BEGIN:VTIMEZONE
TZID:UTC
BEGIN:STANDARD
TZOFFSETFROM:+0000
TZOFFSETTO:+0000
TZNAME:UTC
DTSTART:20200101T000000
END:STANDARD
END:VTIMEZONE
BEGIN:VEVENT
DTSTART;TZID=UTC:20211103T170000
DTEND;TZID=UTC:20211103T180000
DTSTAMP:20260421T141408
CREATED:20210910T174432Z
LAST-MODIFIED:20211027T204142Z
UID:120689-1635958800-1635962400@www.hackensackchamber.org
SUMMARY:The Beatles - Lessons on Leadership and Teams
DESCRIPTION:In conjunction with Johnson Public Library. Free to attend.\n\nWithout question\, one of the world’s most successful and important musical \n\n\nand cultural artists were The Beatles.  In addition to the unprecedented sales of \n\n\ntheir recordings\, they changed the way music is written\, recorded and \n\n\nperformed\, and even changed the way people dressed and cut their hair.  And\, \n\n\nfifty years after the four Beatles were last in a room together\, they continue \n\n\nthat success\, being among the top sellers in music today. \n\n\n\n\n \n\n\n\n\nCertainly\, having three world-class singers and songwriters and a rock-solid \n\n\ndrummer contributed to that success.  However\, there was a lot more that \n\n\nmade them so successful. In this entertaining 45-minute presentation\, local \n\n\nteacher\, musician and Beatles’ fan\, Rick Sawyer\, will discuss some very specific \n\n\n‘lessons on leadership and teams’ that contributed to The Beatles’ success.  \n\n\nWhat makes this discussion this especially valuable is that any leader\, and any \n\n\n\n\n\n\n\n\n\n\n\nteam\, can learn from this and use these ‘lessons’ to help make you\, as a leader\, \n\n\n\n\n\n\n\n\n\n\n\n\n\n\nand the team you’re part of\, more successful. 
URL:https://www.hackensackchamber.org/event/the-beatles-lessons-on-leadership-and-teams/
LOCATION:Johnson Public Library\, 274 Main Street\, Hackensack\, NJ\, 07601
END:VEVENT
END:VCALENDAR