BEGIN:VCALENDAR
VERSION:2.0
PRODID:-//Hackensack Regional Chamber of Commerce - ECPv6.15.17.1//NONSGML v1.0//EN
CALSCALE:GREGORIAN
METHOD:PUBLISH
X-WR-CALNAME:Hackensack Regional Chamber of Commerce
X-ORIGINAL-URL:https://www.hackensackchamber.org
X-WR-CALDESC:Events for Hackensack Regional Chamber of Commerce
REFRESH-INTERVAL;VALUE=DURATION:PT1H
X-Robots-Tag:noindex
X-PUBLISHED-TTL:PT1H
BEGIN:VTIMEZONE
TZID:UTC
BEGIN:STANDARD
TZOFFSETFROM:+0000
TZOFFSETTO:+0000
TZNAME:UTC
DTSTART:20200101T000000
END:STANDARD
END:VTIMEZONE
BEGIN:VEVENT
DTSTART;TZID=UTC:20211014T080000
DTEND;TZID=UTC:20211014T100000
DTSTAMP:20260421T154253
CREATED:20210803T165157Z
LAST-MODIFIED:20210922T015548Z
UID:114588-1634198400-1634205600@www.hackensackchamber.org
SUMMARY:General Membership Breakfast
DESCRIPTION:
URL:https://www.hackensackchamber.org/event/general-membership-breakfast-2/
END:VEVENT
END:VCALENDAR