BEGIN:VCALENDAR
VERSION:2.0
PRODID:-//Hackensack Regional Chamber of Commerce - ECPv6.15.17.1//NONSGML v1.0//EN
CALSCALE:GREGORIAN
METHOD:PUBLISH
X-WR-CALNAME:Hackensack Regional Chamber of Commerce
X-ORIGINAL-URL:https://www.hackensackchamber.org
X-WR-CALDESC:Events for Hackensack Regional Chamber of Commerce
REFRESH-INTERVAL;VALUE=DURATION:PT1H
X-Robots-Tag:noindex
X-PUBLISHED-TTL:PT1H
BEGIN:VTIMEZONE
TZID:UTC
BEGIN:STANDARD
TZOFFSETFROM:+0000
TZOFFSETTO:+0000
TZNAME:UTC
DTSTART:20200101T000000
END:STANDARD
END:VTIMEZONE
BEGIN:VEVENT
DTSTART;TZID=UTC:20210324T093000
DTEND;TZID=UTC:20210324T103000
DTSTAMP:20260422T042919
CREATED:20201024T011043Z
LAST-MODIFIED:20201024T011043Z
UID:41457-1616578200-1616581800@www.hackensackchamber.org
SUMMARY:Women's Networking
DESCRIPTION:The goal of this group is for professional women to create an atmosphere where they are comfortable speaking about challenges in their work life. Ultimately\, the relationships build will help grow their business. \nEach session has a topic for the group to discuss. The women’s networking group meets for an hour but attendees are encouraged to stay and chat. \nThe group meets monthly on either the third or fourth Wednesday. There is no charge to attend but membership is required. \nTo host one of the meetings please call the Chamber office.
URL:https://www.hackensackchamber.org/event/womens-networking-12/
END:VEVENT
END:VCALENDAR