BEGIN:VCALENDAR
VERSION:2.0
PRODID:-//Hackensack Regional Chamber of Commerce - ECPv6.15.17.1//NONSGML v1.0//EN
CALSCALE:GREGORIAN
METHOD:PUBLISH
X-ORIGINAL-URL:https://www.hackensackchamber.org
X-WR-CALDESC:Events for Hackensack Regional Chamber of Commerce
REFRESH-INTERVAL;VALUE=DURATION:PT1H
X-Robots-Tag:noindex
X-PUBLISHED-TTL:PT1H
BEGIN:VTIMEZONE
TZID:UTC
BEGIN:STANDARD
TZOFFSETFROM:+0000
TZOFFSETTO:+0000
TZNAME:UTC
DTSTART:20200101T000000
END:STANDARD
END:VTIMEZONE
BEGIN:VEVENT
DTSTART;TZID=UTC:20210311T093000
DTEND;TZID=UTC:20210311T103000
DTSTAMP:20260422T043237
CREATED:20210302T000542Z
LAST-MODIFIED:20210302T000542Z
UID:70971-1615455000-1615458600@www.hackensackchamber.org
SUMMARY:Hispanic Business Committee
DESCRIPTION:To discuss AHORA Event and how we are going to move forward!
URL:https://www.hackensackchamber.org/event/hispanic-business-committee-7/
LOCATION:Zoom\, 66 Moore Street\, Hackensack\, NJ\, 07601\, United States
END:VEVENT
BEGIN:VEVENT
DTSTART;TZID=UTC:20210311T170000
DTEND;TZID=UTC:20210311T200000
DTSTAMP:20260422T043237
CREATED:20210206T012206Z
LAST-MODIFIED:20210206T012206Z
UID:61544-1615482000-1615492800@www.hackensackchamber.org
SUMMARY:Virtual Beefsteak Dinner & Zoom
DESCRIPTION:Join us for a Virtual Beefsteak Dinner. \nPick up your complete meal 5 to 6 p.m. at The Elan\, 111 US Highway 46\, Lodi. \nMeal includes veggies\, salad\, potatoes\, pasta\, 1 lb. of beefsteak\, bread\, butter and dessert. \nJoin us at 7:30 p.m. virtually for a bread tower show off and some networking. \n 
URL:https://www.hackensackchamber.org/event/virtual-beefsteak-dinner-zoom/
END:VEVENT
END:VCALENDAR