BEGIN:VCALENDAR
VERSION:2.0
PRODID:-//Hackensack Regional Chamber of Commerce - ECPv6.15.17.1//NONSGML v1.0//EN
CALSCALE:GREGORIAN
METHOD:PUBLISH
X-WR-CALNAME:Hackensack Regional Chamber of Commerce
X-ORIGINAL-URL:https://www.hackensackchamber.org
X-WR-CALDESC:Events for Hackensack Regional Chamber of Commerce
REFRESH-INTERVAL;VALUE=DURATION:PT1H
X-Robots-Tag:noindex
X-PUBLISHED-TTL:PT1H
BEGIN:VTIMEZONE
TZID:UTC
BEGIN:STANDARD
TZOFFSETFROM:+0000
TZOFFSETTO:+0000
TZNAME:UTC
DTSTART:20200101T000000
END:STANDARD
END:VTIMEZONE
BEGIN:VEVENT
DTSTART;TZID=UTC:20210212T120000
DTEND;TZID=UTC:20210212T130000
DTSTAMP:20260422T080317
CREATED:20210123T032906Z
LAST-MODIFIED:20210123T032906Z
UID:58180-1613131200-1613134800@www.hackensackchamber.org
SUMMARY:Lunch & Learn: Guidance for Employers in Implementing Vaccination and Other COVID-Related Policies
DESCRIPTION:Lunch & Learn \nGuidance for Employers in Implementing Vaccination and Other COVID-Related Policies \nPresented by: Marissa A. Mastroianni\, Cole Schotz\, PC \nFriday\, February 12 – Noon to 1 p.m. \nJoin Marissa Mastroianni\, Esq. of Cole Schotz\, PC for an informative discussion regarding best policies and practices employers should implement in the upcoming year to address the ongoing pandemic. As vaccinations roll-out across the country\, employers will be faced with deciding whether to enact vaccination policies and other related return-to-work considerations. Marissa will provide guidance on these issues for employers to consider when making tough decisions on getting back into the office. \nFeel free to have your lunch as this program will be held via zoom. Zoom link will be sent the night before. \n$10 members/$20 non members
URL:https://www.hackensackchamber.org/event/lunch-learn-guidance-for-employers-in-implementing-vaccination-and-other-covid-related-policies/
END:VEVENT
END:VCALENDAR