BEGIN:VCALENDAR
VERSION:2.0
PRODID:-//Hackensack Regional Chamber of Commerce - ECPv6.15.17.1//NONSGML v1.0//EN
CALSCALE:GREGORIAN
METHOD:PUBLISH
X-WR-CALNAME:Hackensack Regional Chamber of Commerce
X-ORIGINAL-URL:https://www.hackensackchamber.org
X-WR-CALDESC:Events for Hackensack Regional Chamber of Commerce
REFRESH-INTERVAL;VALUE=DURATION:PT1H
X-Robots-Tag:noindex
X-PUBLISHED-TTL:PT1H
BEGIN:VTIMEZONE
TZID:UTC
BEGIN:STANDARD
TZOFFSETFROM:+0000
TZOFFSETTO:+0000
TZNAME:UTC
DTSTART:20200101T000000
END:STANDARD
END:VTIMEZONE
BEGIN:VEVENT
DTSTART;TZID=UTC:20210208T090000
DTEND;TZID=UTC:20210208T100000
DTSTAMP:20260422T080223
CREATED:20201023T234948Z
LAST-MODIFIED:20201023T234948Z
UID:41391-1612774800-1612778400@www.hackensackchamber.org
SUMMARY:Membership/Marketing Committee
DESCRIPTION:The membership/marketing committee meets on the 2nd Monday of the month at 9 a.m. via zoom. The committee plans the May is Membership events and the General Membership event. The committee also welcomes new members in person at their place of business. They act as ambassadors to greet attendees at major events throughout the year.
URL:https://www.hackensackchamber.org/event/membership-marketing-committee-7/
END:VEVENT
END:VCALENDAR