BEGIN:VCALENDAR
VERSION:2.0
PRODID:-//Hackensack Regional Chamber of Commerce - ECPv6.15.17.1//NONSGML v1.0//EN
CALSCALE:GREGORIAN
METHOD:PUBLISH
X-WR-CALNAME:Hackensack Regional Chamber of Commerce
X-ORIGINAL-URL:https://www.hackensackchamber.org
X-WR-CALDESC:Events for Hackensack Regional Chamber of Commerce
REFRESH-INTERVAL;VALUE=DURATION:PT1H
X-Robots-Tag:noindex
X-PUBLISHED-TTL:PT1H
BEGIN:VTIMEZONE
TZID:UTC
BEGIN:STANDARD
TZOFFSETFROM:+0000
TZOFFSETTO:+0000
TZNAME:UTC
DTSTART:20200101T000000
END:STANDARD
END:VTIMEZONE
BEGIN:VEVENT
DTSTART;TZID=UTC:20210119T173000
DTEND;TZID=UTC:20210119T183000
DTSTAMP:20260422T095031
CREATED:20210107T011242Z
LAST-MODIFIED:20210114T061029Z
UID:53997-1611077400-1611081000@www.hackensackchamber.org
SUMMARY:5 for 5 Networking
DESCRIPTION:Join fellow business leaders for after-hours networking. Participants will be divided into groups of 5 for 5 minutes. After 5 minutes\, they will be joined into a new group. \nZoom instructions will be sent the day before. \n$10 members\, $20 non-members
URL:https://www.hackensackchamber.org/event/5-for-5-networking/
END:VEVENT
END:VCALENDAR