BEGIN:VCALENDAR
VERSION:2.0
PRODID:-//Hackensack Regional Chamber of Commerce - ECPv6.15.17.1//NONSGML v1.0//EN
CALSCALE:GREGORIAN
METHOD:PUBLISH
X-ORIGINAL-URL:https://www.hackensackchamber.org
X-WR-CALDESC:Events for Hackensack Regional Chamber of Commerce
REFRESH-INTERVAL;VALUE=DURATION:PT1H
X-Robots-Tag:noindex
X-PUBLISHED-TTL:PT1H
BEGIN:VTIMEZONE
TZID:UTC
BEGIN:STANDARD
TZOFFSETFROM:+0000
TZOFFSETTO:+0000
TZNAME:UTC
DTSTART:20190101T000000
END:STANDARD
END:VTIMEZONE
BEGIN:VEVENT
DTSTART;TZID=UTC:20201210T180000
DTEND;TZID=UTC:20201210T190000
DTSTAMP:20260422T114337
CREATED:20201103T003448Z
LAST-MODIFIED:20201120T233912Z
UID:43033-1607623200-1607626800@www.hackensackchamber.org
SUMMARY:Networking & Salsa
DESCRIPTION:
URL:https://www.hackensackchamber.org/event/networking-salsa/
LOCATION:Jean Michel’s Let’s Dance\, 116 Anderson Street\, Hackensack\, NJ\, 07601\, United States
END:VEVENT
END:VCALENDAR