BEGIN:VCALENDAR
VERSION:2.0
PRODID:-//Hackensack Regional Chamber of Commerce - ECPv6.15.17.1//NONSGML v1.0//EN
CALSCALE:GREGORIAN
METHOD:PUBLISH
X-WR-CALNAME:Hackensack Regional Chamber of Commerce
X-ORIGINAL-URL:https://www.hackensackchamber.org
X-WR-CALDESC:Events for Hackensack Regional Chamber of Commerce
REFRESH-INTERVAL;VALUE=DURATION:PT1H
X-Robots-Tag:noindex
X-PUBLISHED-TTL:PT1H
BEGIN:VTIMEZONE
TZID:UTC
BEGIN:STANDARD
TZOFFSETFROM:+0000
TZOFFSETTO:+0000
TZNAME:UTC
DTSTART:20190101T000000
END:STANDARD
END:VTIMEZONE
BEGIN:VEVENT
DTSTART;TZID=UTC:20201021T130000
DTEND;TZID=UTC:20201021T140000
DTSTAMP:20260422T150255
CREATED:20200903T180521Z
LAST-MODIFIED:20200903T180521Z
UID:36188-1603285200-1603288800@www.hackensackchamber.org
SUMMARY:Options for Dealing with Debt
DESCRIPTION:If you are dealing with debt\, you’re not alone. \nLet’s work together to come up with a plan to get out of debt and reduce your financial stress. \nJoin us to explore the pros and cons of various debt repayment strategies\, learn how much debt is too much\, and how to avoid debt problems in the future. \nWe’ll also share how to get additional help and how to access our Resource Guides that address financial challenges created by the current pandemic. \n  \nRegister here: https://www.greateralliance.org/events/options-for-dealing-with-debt/
URL:https://www.hackensackchamber.org/event/options-for-dealing-with-debt/
END:VEVENT
END:VCALENDAR