BEGIN:VCALENDAR
VERSION:2.0
PRODID:-//Hackensack Regional Chamber of Commerce - ECPv6.15.17.1//NONSGML v1.0//EN
CALSCALE:GREGORIAN
METHOD:PUBLISH
X-ORIGINAL-URL:https://www.hackensackchamber.org
X-WR-CALDESC:Events for Hackensack Regional Chamber of Commerce
REFRESH-INTERVAL;VALUE=DURATION:PT1H
X-Robots-Tag:noindex
X-PUBLISHED-TTL:PT1H
BEGIN:VTIMEZONE
TZID:UTC
BEGIN:STANDARD
TZOFFSETFROM:+0000
TZOFFSETTO:+0000
TZNAME:UTC
DTSTART:20190101T000000
END:STANDARD
END:VTIMEZONE
BEGIN:VEVENT
DTSTART;TZID=UTC:20201015T080000
DTEND;TZID=UTC:20201015T100000
DTSTAMP:20260422T150537
CREATED:20200916T023227Z
LAST-MODIFIED:20200916T023227Z
UID:37224-1602748800-1602756000@www.hackensackchamber.org
SUMMARY:General Membership Breakfast
DESCRIPTION:Join Hackensack Board of Directors for our annual meeting. \n  \nWe will discuss chamber business and highlight members who have positive 2020 stories. \n  \nMembers – One Free Ticket \nMember Guests – $10 \nNon Members  – $35
URL:https://www.hackensackchamber.org/event/general-membership-breakfast/
LOCATION:Stony Hill Inn\, 231 Polifly Road\, Hackensack\, New Jersey\, 07601
END:VEVENT
END:VCALENDAR