BEGIN:VCALENDAR
VERSION:2.0
PRODID:-//Hackensack Regional Chamber of Commerce - ECPv6.15.17.1//NONSGML v1.0//EN
CALSCALE:GREGORIAN
METHOD:PUBLISH
X-WR-CALNAME:Hackensack Regional Chamber of Commerce
X-ORIGINAL-URL:https://www.hackensackchamber.org
X-WR-CALDESC:Events for Hackensack Regional Chamber of Commerce
REFRESH-INTERVAL;VALUE=DURATION:PT1H
X-Robots-Tag:noindex
X-PUBLISHED-TTL:PT1H
BEGIN:VTIMEZONE
TZID:UTC
BEGIN:STANDARD
TZOFFSETFROM:+0000
TZOFFSETTO:+0000
TZNAME:UTC
DTSTART:20190101T000000
END:STANDARD
END:VTIMEZONE
BEGIN:VEVENT
DTSTART;TZID=UTC:20200930T093000
DTEND;TZID=UTC:20200930T103000
DTSTAMP:20260422T150258
CREATED:20200819T211742Z
LAST-MODIFIED:20200922T230249Z
UID:34661-1601458200-1601461800@www.hackensackchamber.org
SUMMARY:Womens Networking Group
DESCRIPTION:
URL:https://www.hackensackchamber.org/event/hispanic-business-committee-6/
END:VEVENT
BEGIN:VEVENT
DTSTART;TZID=UTC:20200930T130000
DTEND;TZID=UTC:20200930T140000
DTSTAMP:20260422T150258
CREATED:20200903T180628Z
LAST-MODIFIED:20200903T180628Z
UID:36191-1601470800-1601474400@www.hackensackchamber.org
SUMMARY:Money Concepts for Teens and Young Adults
DESCRIPTION:Financial success is a lifelong endeavor with many goals to achieve along the way. Even as adults\, it can be challenging to make sense of our priorities and navigate all of the financial information thrown at us. For your older teens and young adults\, it may be doubly confusing. Helping your kids discover how to handle and manage money will pave their path for successful money management\, whether they are a teen\, in college\, or just graduating college. \nJoin us on September 30 at 1:00 pm as we explore Money Concepts that will benefit your Teens and Young Adults. \nRegister here: https://www.greateralliance.org/events/money-concepts-for-teens-and-young-adults/
URL:https://www.hackensackchamber.org/event/money-concepts-for-teens-and-young-adults/
END:VEVENT
END:VCALENDAR