BEGIN:VCALENDAR
VERSION:2.0
PRODID:-//Hackensack Regional Chamber of Commerce - ECPv6.15.17.1//NONSGML v1.0//EN
CALSCALE:GREGORIAN
METHOD:PUBLISH
X-ORIGINAL-URL:https://www.hackensackchamber.org
X-WR-CALDESC:Events for Hackensack Regional Chamber of Commerce
REFRESH-INTERVAL;VALUE=DURATION:PT1H
X-Robots-Tag:noindex
X-PUBLISHED-TTL:PT1H
BEGIN:VTIMEZONE
TZID:UTC
BEGIN:STANDARD
TZOFFSETFROM:+0000
TZOFFSETTO:+0000
TZNAME:UTC
DTSTART:20190101T000000
END:STANDARD
END:VTIMEZONE
BEGIN:VEVENT
DTSTART;TZID=UTC:20200929T093000
DTEND;TZID=UTC:20200929T103000
DTSTAMP:20260422T150534
CREATED:20200905T230028Z
LAST-MODIFIED:20200905T230028Z
UID:36408-1601371800-1601375400@www.hackensackchamber.org
SUMMARY:10 Truths No Matter Who Wins
DESCRIPTION:Politics and investing have always been spoken about in the same breath.  Market commentators\, and even presidents\, have linked the performance of the stock market as a sort of barometer of a president’s effectiveness. \nBut the data doesn’t support this link\, and investors would be wise to think critically before making investment decisions.  Long-term performance of the market has shown almost no relationship with government policies. \nInstead\, the key drivers of stock market performance have proven to be earnings and economic growth. \nJoin us for 10 Truths No Matter Who Wins. \nImportant Zoom Details:\nDate and time: September 29\, 2020\, 9:30 am \nTo attend\, click the following link. If the link does not work\, copy and paste it into your address bar. \nhttps://edwardjones.zoom.us/j/96386787733?pwd=YXcrajlEVUdDQXp2S2xNYi9OYWlqZz09 \nTo join by one-tap mobile or phone if you have no computer\, call 1 929 205 6099 . You will need the following meeting ID and password:\nMeeting ID: 963 8678 7733\nPassword: 577299 \nRSVP to Paula Fenimore @ paula.fenimore@edwardjones.com no later than Friday\, September 25th. You are welcome to invite guests.
URL:https://www.hackensackchamber.org/event/10-truths-no-matter-who-wins/
END:VEVENT
END:VCALENDAR