BEGIN:VCALENDAR
VERSION:2.0
PRODID:-//Hackensack Regional Chamber of Commerce - ECPv6.15.17.1//NONSGML v1.0//EN
CALSCALE:GREGORIAN
METHOD:PUBLISH
X-ORIGINAL-URL:https://www.hackensackchamber.org
X-WR-CALDESC:Events for Hackensack Regional Chamber of Commerce
REFRESH-INTERVAL;VALUE=DURATION:PT1H
X-Robots-Tag:noindex
X-PUBLISHED-TTL:PT1H
BEGIN:VTIMEZONE
TZID:UTC
BEGIN:STANDARD
TZOFFSETFROM:+0000
TZOFFSETTO:+0000
TZNAME:UTC
DTSTART:20190101T000000
END:STANDARD
END:VTIMEZONE
BEGIN:VEVENT
DTSTART;TZID=UTC:20200911T100000
DTEND;TZID=UTC:20200911T110000
DTSTAMP:20260422T164934
CREATED:20200817T182441Z
LAST-MODIFIED:20200817T182441Z
UID:34193-1599818400-1599822000@www.hackensackchamber.org
SUMMARY:Non Profit Committee Meeting
DESCRIPTION:Network and chat with other non profits about real-world problems and successes. The committee is led by Amanda Missey of BVMI. The meeting will be held via zoom. \nThis committee is for Chamber Members only.
URL:https://www.hackensackchamber.org/event/non-profit-committee-meeting/
END:VEVENT
END:VCALENDAR