BEGIN:VCALENDAR
VERSION:2.0
PRODID:-//Hackensack Regional Chamber of Commerce - ECPv6.15.17.1//NONSGML v1.0//EN
CALSCALE:GREGORIAN
METHOD:PUBLISH
X-WR-CALNAME:Hackensack Regional Chamber of Commerce
X-ORIGINAL-URL:https://www.hackensackchamber.org
X-WR-CALDESC:Events for Hackensack Regional Chamber of Commerce
REFRESH-INTERVAL;VALUE=DURATION:PT1H
X-Robots-Tag:noindex
X-PUBLISHED-TTL:PT1H
BEGIN:VTIMEZONE
TZID:UTC
BEGIN:STANDARD
TZOFFSETFROM:+0000
TZOFFSETTO:+0000
TZNAME:UTC
DTSTART:20190101T000000
END:STANDARD
END:VTIMEZONE
BEGIN:VEVENT
DTSTART;TZID=UTC:20200903T120000
DTEND;TZID=UTC:20200903T123000
DTSTAMP:20260422T164641
CREATED:20200824T193414Z
LAST-MODIFIED:20200824T193414Z
UID:35339-1599134400-1599136200@www.hackensackchamber.org
SUMMARY:Mindfulness and Breathing
DESCRIPTION:Need an break? Join Jan Jeremias for 20 minutes of peaceful relaxation. \nFree to attend. Registration Required.
URL:https://www.hackensackchamber.org/event/mindfulness-and-breathing/
END:VEVENT
END:VCALENDAR