BEGIN:VCALENDAR
VERSION:2.0
PRODID:-//Hackensack Regional Chamber of Commerce - ECPv6.15.17.1//NONSGML v1.0//EN
CALSCALE:GREGORIAN
METHOD:PUBLISH
X-WR-CALNAME:Hackensack Regional Chamber of Commerce
X-ORIGINAL-URL:https://www.hackensackchamber.org
X-WR-CALDESC:Events for Hackensack Regional Chamber of Commerce
REFRESH-INTERVAL;VALUE=DURATION:PT1H
X-Robots-Tag:noindex
X-PUBLISHED-TTL:PT1H
BEGIN:VTIMEZONE
TZID:UTC
BEGIN:STANDARD
TZOFFSETFROM:+0000
TZOFFSETTO:+0000
TZNAME:UTC
DTSTART:20190101T000000
END:STANDARD
END:VTIMEZONE
BEGIN:VEVENT
DTSTART;TZID=UTC:20200819T110000
DTEND;TZID=UTC:20200819T120000
DTSTAMP:20260422T182034
CREATED:20200814T170148Z
LAST-MODIFIED:20200814T170148Z
UID:33688-1597834800-1597838400@www.hackensackchamber.org
SUMMARY:The Future of Nonprofit Events\, Sponsorships & Collaborations
DESCRIPTION:https://meadowlandsnjcoc.wliinc15.com/events/The-Future-of-Nonprofit-Events-Sponsorships-Collaborations-4728/details \nMeadowlands Chamber members\, Action Graphics and City Harvest will present an informative program on how non profitscan move forward in this changing environment.  \nFree to attend.
URL:https://www.hackensackchamber.org/event/the-future-of-nonprofit-events-sponsorships-collaborations/
END:VEVENT
END:VCALENDAR