BEGIN:VCALENDAR
VERSION:2.0
PRODID:-//Hackensack Regional Chamber of Commerce - ECPv6.15.17.1//NONSGML v1.0//EN
CALSCALE:GREGORIAN
METHOD:PUBLISH
X-WR-CALNAME:Hackensack Regional Chamber of Commerce
X-ORIGINAL-URL:https://www.hackensackchamber.org
X-WR-CALDESC:Events for Hackensack Regional Chamber of Commerce
REFRESH-INTERVAL;VALUE=DURATION:PT1H
X-Robots-Tag:noindex
X-PUBLISHED-TTL:PT1H
BEGIN:VTIMEZONE
TZID:UTC
BEGIN:STANDARD
TZOFFSETFROM:+0000
TZOFFSETTO:+0000
TZNAME:UTC
DTSTART:20190101T000000
END:STANDARD
END:VTIMEZONE
BEGIN:VEVENT
DTSTART;TZID=UTC:20200610T093000
DTEND;TZID=UTC:20200610T103000
DTSTAMP:20260422T213036
CREATED:20200108T221316Z
LAST-MODIFIED:20200108T221316Z
UID:8538-1591781400-1591785000@www.hackensackchamber.org
SUMMARY:Hispanic Business Committee
DESCRIPTION:The Hispanic Business Committee meets monthly on the 2nd Wednesday of the month at the Chamber office.  The committee is chaired by Wil Chillin of One Eleven Beauty and Aesthetic Studio in Hackensack. They work together to discuss issues that affect Hispanic Businesses as well as business in general. They also canvass the Chamber’s area to invite new businesses to attend committee meetings and events. \nThey planned their first Meet & Greet in May and it was a huge success.  Look for another event in the Fall.  There is no charge to attend the committee\, but membership in the Chamber is encouraged.  Members of the committee are expected to speak Spanish
URL:https://www.hackensackchamber.org/event/hispanic-business-committee-5/
END:VEVENT
END:VCALENDAR