BEGIN:VCALENDAR
VERSION:2.0
PRODID:-//Hackensack Regional Chamber of Commerce - ECPv6.15.17.1//NONSGML v1.0//EN
CALSCALE:GREGORIAN
METHOD:PUBLISH
X-ORIGINAL-URL:https://www.hackensackchamber.org
X-WR-CALDESC:Events for Hackensack Regional Chamber of Commerce
REFRESH-INTERVAL;VALUE=DURATION:PT1H
X-Robots-Tag:noindex
X-PUBLISHED-TTL:PT1H
BEGIN:VTIMEZONE
TZID:UTC
BEGIN:STANDARD
TZOFFSETFROM:+0000
TZOFFSETTO:+0000
TZNAME:UTC
DTSTART:20190101T000000
END:STANDARD
END:VTIMEZONE
BEGIN:VEVENT
DTSTART;TZID=UTC:20200608T090000
DTEND;TZID=UTC:20200608T100000
DTSTAMP:20260422T213250
CREATED:20191211T023051Z
LAST-MODIFIED:20191211T023051Z
UID:4556-1591606800-1591610400@www.hackensackchamber.org
SUMMARY:Marketing/Membership Committee
DESCRIPTION:The marketing/membership committee meets on the 2nd Monday of the month at the Chamber office at 9 a.m. This committee plans the May is Membership Event and the General Membership Event. The committee also helps to welcome new members in person at their place of business. They act as ambassadors to greet attendees at major events throughout the year.
URL:https://www.hackensackchamber.org/event/marketing-membership-committee-3/
LOCATION:Zoom\, 66 Moore Street\, Hackensack\, NJ\, 07601\, United States
END:VEVENT
END:VCALENDAR