BEGIN:VCALENDAR
VERSION:2.0
PRODID:-//Hackensack Regional Chamber of Commerce - ECPv6.15.17.1//NONSGML v1.0//EN
CALSCALE:GREGORIAN
METHOD:PUBLISH
X-WR-CALNAME:Hackensack Regional Chamber of Commerce
X-ORIGINAL-URL:https://www.hackensackchamber.org
X-WR-CALDESC:Events for Hackensack Regional Chamber of Commerce
REFRESH-INTERVAL;VALUE=DURATION:PT1H
X-Robots-Tag:noindex
X-PUBLISHED-TTL:PT1H
BEGIN:VTIMEZONE
TZID:UTC
BEGIN:STANDARD
TZOFFSETFROM:+0000
TZOFFSETTO:+0000
TZNAME:UTC
DTSTART:20190101T000000
END:STANDARD
END:VTIMEZONE
BEGIN:VEVENT
DTSTART;TZID=UTC:20200520T093000
DTEND;TZID=UTC:20200520T103000
DTSTAMP:20260422T225729
CREATED:20191211T025112Z
LAST-MODIFIED:20200512T192757Z
UID:4611-1589967000-1589970600@www.hackensackchamber.org
SUMMARY:Women's Networking
DESCRIPTION:This month is being hosted by: \nCohn Lifland Pearlman Herrmann & Knopf \nThe goal of the women’s networking group is for professional women to create an atmosphere where they are comfortable speaking about challenges in their work life. Ultimately\, the relationships built will help grow their businesses. Each session has a topic for the group to discuss. The women’s networking group meets for an hour\, but attendees are encouraged to stay and chat. The group meets on the third Wednesday of the month. There is no charge to attend\, but Chamber membership is encouraged. To host one of the meetings please call the Chamber office. \nRegistration is a must! Free to members\, $10 to non members \nOnce registered\, the zoom info will be emailed to you. \n 
URL:https://www.hackensackchamber.org/event/womens-networking-8/
LOCATION:Cohn Lifland Pearlman Herrmann & Knopf\, 250 Pehle Ave\, Suite 401\, Saddle Brook\, NJ\, 07663\, United States
END:VEVENT
BEGIN:VEVENT
DTSTART;TZID=UTC:20200520T150000
DTEND;TZID=UTC:20200520T170000
DTSTAMP:20260422T225729
CREATED:20200515T215132Z
LAST-MODIFIED:20200515T215132Z
UID:23891-1589986800-1589994000@www.hackensackchamber.org
SUMMARY:Learn How to Cut Men’s Hair with Parisian Beauty Academy
DESCRIPTION:Join us for a Facebook Live intro on the\nChamber & Parisian Facebook pages\nWednesday\, May 20 at 3 p.m.\nFollowed by an interactive class via Zoom\nWednesday\, May 27 at 3 p.m. \nWho doesn’t need a hair cut after 8 weeks of being at home? Are you doing Video Meetings wearing a baseball hat? Maybe its time for a trim! \nProfessional Julissa Ramos will lead us through a simple hair cut to get the men in our lives looking professional and put together just in time for Father’s Day. Learn to give a simple man’s clipper cut using the Pivot Motor Combo. Priced at $69.99 + tax ($74.58) including a one-hour zoom class. \nCurbside pick-up available at Parisian Beauty Academy\, 21 Passaic St.\, Hackensack – Monday to Friday from 9 a.m. to 4 p.m. \nOur one-hour Zoom class is geared for all participants to show up with their model and execute a complete hair cut step by step up close and personal with Miss Julissa. This will be an interactive class. Zoom instructions will be sent after registering. \nSPACE IS LIMITED! \nTo register visit www.hackensackchamber.org/events or call 201-489-3700 or info@hackensackchamber.org.
URL:https://www.hackensackchamber.org/event/learn-how-to-cut-mens-hair-with-parisian-beauty-academy/
END:VEVENT
END:VCALENDAR