BEGIN:VCALENDAR
VERSION:2.0
PRODID:-//Hackensack Regional Chamber of Commerce - ECPv6.15.17.1//NONSGML v1.0//EN
CALSCALE:GREGORIAN
METHOD:PUBLISH
X-ORIGINAL-URL:https://www.hackensackchamber.org
X-WR-CALDESC:Events for Hackensack Regional Chamber of Commerce
REFRESH-INTERVAL;VALUE=DURATION:PT1H
X-Robots-Tag:noindex
X-PUBLISHED-TTL:PT1H
BEGIN:VTIMEZONE
TZID:UTC
BEGIN:STANDARD
TZOFFSETFROM:+0000
TZOFFSETTO:+0000
TZNAME:UTC
DTSTART:20190101T000000
END:STANDARD
END:VTIMEZONE
BEGIN:VEVENT
DTSTART;TZID=UTC:20200519T090000
DTEND;TZID=UTC:20200519T100000
DTSTAMP:20260422T230139
CREATED:20200505T182931Z
LAST-MODIFIED:20200513T181722Z
UID:22782-1589878800-1589882400@www.hackensackchamber.org
SUMMARY:Lawyers & Accountants Present Business Tips
DESCRIPTION:Topic: Lawyers and Accountants\nTime: May 19\, 2020 09:00 AM Eastern Time (US and Canada) \nJoin our Lawyers & Accountants Group for an interactive webinar with important and relevant subject matter for today’s challenging environment. Topics include: Job-Protect Leave\, Tax Appeals\, Estate Planning\, CARES Act and Investing Principles and Diversification.\n\nThe discussion will be led by Joe Saccomanno of Equitable Solutions with Cole Schotz Attorneys Marissa Mastroianni and Carl Rizzo.\n\nFree to members\, $10 non members.
URL:https://www.hackensackchamber.org/event/lawyers-accountants-present/
END:VEVENT
END:VCALENDAR