BEGIN:VCALENDAR
VERSION:2.0
PRODID:-//Hackensack Regional Chamber of Commerce - ECPv6.15.17.1//NONSGML v1.0//EN
CALSCALE:GREGORIAN
METHOD:PUBLISH
X-ORIGINAL-URL:https://www.hackensackchamber.org
X-WR-CALDESC:Events for Hackensack Regional Chamber of Commerce
REFRESH-INTERVAL;VALUE=DURATION:PT1H
X-Robots-Tag:noindex
X-PUBLISHED-TTL:PT1H
BEGIN:VTIMEZONE
TZID:UTC
BEGIN:STANDARD
TZOFFSETFROM:+0000
TZOFFSETTO:+0000
TZNAME:UTC
DTSTART:20190101T000000
END:STANDARD
END:VTIMEZONE
BEGIN:VEVENT
DTSTART;TZID=UTC:20200304T080000
DTEND;TZID=UTC:20200304T100000
DTSTAMP:20260423T021758
CREATED:20200129T004024Z
LAST-MODIFIED:20200210T230418Z
UID:11731-1583308800-1583316000@www.hackensackchamber.org
SUMMARY:Meet & Greet with the Attorneys & Accountants Group
DESCRIPTION:Start off the new year with some solid tips for the accounting and legal professionals of the Chamber. This is an opportunity for the entire membership to meet and greet with the members of the Attorneys & Accountants committee\, network and learn some important business tips for the coming year. \nBreakfast is sponsored by Cole Schotz\, P.C. \n$10 to attend. Registration required.
URL:https://www.hackensackchamber.org/event/meet-greet-with-the-attorneys-accountants-group/
LOCATION:Cole Schotz\, P.C.\, 25 Main Street\,\, Hackensack\, NJ\, 07601\, United States
END:VEVENT
END:VCALENDAR