BEGIN:VCALENDAR
VERSION:2.0
PRODID:-//Hackensack Regional Chamber of Commerce - ECPv6.15.17.1//NONSGML v1.0//EN
CALSCALE:GREGORIAN
METHOD:PUBLISH
X-WR-CALNAME:Hackensack Regional Chamber of Commerce
X-ORIGINAL-URL:https://www.hackensackchamber.org
X-WR-CALDESC:Events for Hackensack Regional Chamber of Commerce
REFRESH-INTERVAL;VALUE=DURATION:PT1H
X-Robots-Tag:noindex
X-PUBLISHED-TTL:PT1H
BEGIN:VTIMEZONE
TZID:UTC
BEGIN:STANDARD
TZOFFSETFROM:+0000
TZOFFSETTO:+0000
TZNAME:UTC
DTSTART:20190101T000000
END:STANDARD
END:VTIMEZONE
BEGIN:VEVENT
DTSTART;TZID=UTC:20200128T080000
DTEND;TZID=UTC:20200128T100000
DTSTAMP:20260423T034807
CREATED:20191211T024349Z
LAST-MODIFIED:20191211T024349Z
UID:4586-1580198400-1580205600@www.hackensackchamber.org
SUMMARY:Welcome 2019 New Members
DESCRIPTION:Charlotte Sodora\, president\, would like to welcome all new members to an early morning meet and greet. \nLearn how to maximize Chamber benefits. \nGet to know your Chamber board and staff. \nHear about upcoming events and networking opportunities. \nJoin one of the Chamber’s committees. \nNo charge for those who joined in 2019 – must register through the Chamber office at 201-489-3700 or email info@hackensackchamber.org \nAll others $15.
URL:https://www.hackensackchamber.org/event/welcome-2019-new-members/
LOCATION:Clemente Bakery\, 120 Leuning St. South Hackensack\, Hackensack\, NJ\, 07601\, United States
END:VEVENT
END:VCALENDAR