BEGIN:VCALENDAR
VERSION:2.0
PRODID:-//Hackensack Regional Chamber of Commerce - ECPv6.15.17.1//NONSGML v1.0//EN
CALSCALE:GREGORIAN
METHOD:PUBLISH
X-WR-CALNAME:Hackensack Regional Chamber of Commerce
X-ORIGINAL-URL:https://www.hackensackchamber.org
X-WR-CALDESC:Events for Hackensack Regional Chamber of Commerce
REFRESH-INTERVAL;VALUE=DURATION:PT1H
X-Robots-Tag:noindex
X-PUBLISHED-TTL:PT1H
BEGIN:VTIMEZONE
TZID:UTC
BEGIN:STANDARD
TZOFFSETFROM:+0000
TZOFFSETTO:+0000
TZNAME:UTC
DTSTART:20180101T000000
END:STANDARD
END:VTIMEZONE
BEGIN:VEVENT
DTSTART;TZID=UTC:20191218T093000
DTEND;TZID=UTC:20191218T103000
DTSTAMP:20260425T063149
CREATED:20191109T065421Z
LAST-MODIFIED:20191213T212100Z
UID:2013-1576661400-1576665000@www.hackensackchamber.org
SUMMARY:Women's Networking
DESCRIPTION:The goal of this group is to create an atmosphere for professional women where they are comfortable speaking about the challenges in their work life. Ultimately\, the relationships built will help to grow their businesses through new contacts and relationships. Each session has a topic for the group to discuss. The women’s networking group meets for an hour\, but attendees are encouraged to stay and chat. The group meets monthly on the third Wednesday of the month. The is no charge to attend this group\, but membership in the Chamber is encouraged. To host one of the meetings please call the Chamber office.
URL:https://www.hackensackchamber.org/event/womens-networking-2/
ATTACH;FMTTYPE=image/jpeg:https://www.hackensackchamber.org/wp-content/uploads/2019/11/womens-networking.jpg
END:VEVENT
END:VCALENDAR