BEGIN:VCALENDAR
VERSION:2.0
PRODID:-//Hackensack Regional Chamber of Commerce - ECPv6.15.17.1//NONSGML v1.0//EN
CALSCALE:GREGORIAN
METHOD:PUBLISH
X-WR-CALNAME:Hackensack Regional Chamber of Commerce
X-ORIGINAL-URL:https://www.hackensackchamber.org
X-WR-CALDESC:Events for Hackensack Regional Chamber of Commerce
REFRESH-INTERVAL;VALUE=DURATION:PT1H
X-Robots-Tag:noindex
X-PUBLISHED-TTL:PT1H
BEGIN:VTIMEZONE
TZID:UTC
BEGIN:STANDARD
TZOFFSETFROM:+0000
TZOFFSETTO:+0000
TZNAME:UTC
DTSTART:20180101T000000
END:STANDARD
END:VTIMEZONE
BEGIN:VEVENT
DTSTART;TZID=UTC:20191203T080000
DTEND;TZID=UTC:20191203T100000
DTSTAMP:20260425T063231
CREATED:20191109T060816Z
LAST-MODIFIED:20191207T151212Z
UID:1972-1575360000-1575367200@www.hackensackchamber.org
SUMMARY:Strategies and Tips for Getting the Most Out of EMarketing
DESCRIPTION:How do you build online relationships to get more clients? \nDo you know the difference between social media marketing and search engine optimization (SEO)? \nWe have a panel of experts to answer those questions and more as part of the Chamber Tech Education Series.
URL:https://www.hackensackchamber.org/event/strategies-and-tips-for-getting-the-most-our-of-emarketing/
LOCATION:Ciarco Learning Center\, 355 Main Street\, Hackensack\, NJ\, 07601\, United States
ATTACH;FMTTYPE=image/jpeg:https://www.hackensackchamber.org/wp-content/uploads/2019/11/seo-event.jpg
END:VEVENT
END:VCALENDAR