BEGIN:VCALENDAR
VERSION:2.0
PRODID:-//Hackensack Regional Chamber of Commerce - ECPv6.15.17.1//NONSGML v1.0//EN
CALSCALE:GREGORIAN
METHOD:PUBLISH
X-WR-CALNAME:Hackensack Regional Chamber of Commerce
X-ORIGINAL-URL:https://www.hackensackchamber.org
X-WR-CALDESC:Events for Hackensack Regional Chamber of Commerce
REFRESH-INTERVAL;VALUE=DURATION:PT1H
X-Robots-Tag:noindex
X-PUBLISHED-TTL:PT1H
BEGIN:VTIMEZONE
TZID:UTC
BEGIN:STANDARD
TZOFFSETFROM:+0000
TZOFFSETTO:+0000
TZNAME:UTC
DTSTART:20180101T000000
END:STANDARD
END:VTIMEZONE
BEGIN:VEVENT
DTSTART;TZID=UTC:20190528T083000
DTEND;TZID=UTC:20190528T093000
DTSTAMP:20260425T153446
CREATED:20191212T220603Z
LAST-MODIFIED:20191212T220603Z
UID:4883-1559032200-1559035800@www.hackensackchamber.org
SUMMARY:Lawyers and Accountants Committee
DESCRIPTION:The Lawyers and Accountants committee meets once per month to network and go over industry related topics.  he main goal of the group is to better understand the subtle nuances of each member’s business in order to encourage referrals and introductions.  From time to time the group will present case studies and host educational events for the main chamber members.  The Committee Chair is Joe Saccomanno from AXA Financial Advisors\, LLC.
URL:https://www.hackensackchamber.org/event/lawyers-and-accountants-committee-5/
LOCATION:AXA Financial Advisors\, 250 Pehle Ave\, Saddle Brook\, NJ\, 07663
END:VEVENT
END:VCALENDAR